BEGIN:VCALENDAR
VERSION:2.0
PRODID:-//ChamberMaster//Event Calendar 2.0//EN
METHOD:PUBLISH
X-PUBLISHED-TTL:P3D
REFRESH-INTERVAL:P3D
CALSCALE:GREGORIAN
BEGIN:VEVENT
DTSTART:20180621T210000Z
DTEND:20180621T230000Z
X-MICROSOFT-CDO-ALLDAYEVENT:FALSE
SUMMARY:Hard Hat Networking - Home Team Grill June 2018
DESCRIPTION:Join us for our monthly Hard Hat happy hour!\nHard Hat Networking is about building strong relationships and helping one another grow our businesses.\n\nIf you are a member of FABA or interested in becoming a member\, Hard Hat is a great way to get to know the people in your industry circle and build lasting\, loyal business relationships.\n\nIf you would like more information about FABA\, please feel free to reach out to the FABA staff at (540) 898-2630.
X-ALT-DESC;FMTTYPE=text/html:<span style="font-size:16px\;"><span style="font-size:14px\;">Join us for our monthly Hard Hat happy hour!</span></span>\n<p style="margin: 0px 0px 6px\; font-family: Helvetica\, Arial\, sans-serif\; color: rgb(29\, 33\, 41)\; font-size: 14px\;">Hard Hat Networking is about building strong relationships and helping one another grow our businesses.</p>\n\n<p style="margin: 6px 0px\; font-family: Helvetica\, Arial\, sans-serif\; color: rgb(29\, 33\, 41)\; font-size: 14px\;">If you are a member of FABA or interested in becoming a member\, Hard Hat is a great way to get to know the people in your industry circle and build lasting\, loyal business relationships.</p>\n\n<p style="margin: 6px 0px 0px\; display: inline\; font-family: Helvetica\, Arial\, sans-serif\; color: rgb(29\, 33\, 41)\; font-size: 14px\;">If you would like more information about FABA\, please feel free to reach out to the FABA staff at (540) 898-2630.</p>\n
LOCATION:Home Team Grill 1109 Jefferson Davis Hwy Fredericksburg\, VA 22401 (located on Route 1 across from University of Mary Washington) (540) 479-1011 ***additional parking is available in the parking garage behind Home Team Grill and in the Hyatt Parking lot.***
UID:e.9458.2501
SEQUENCE:3
DTSTAMP:20260423T235705Z
URL:http://fabava.memberzone.com/events/details/hard-hat-networking-home-team-grill-june-2018-2501
END:VEVENT

END:VCALENDAR
