BEGIN:VCALENDAR
VERSION:2.0
PRODID:-//ChamberMaster//Event Calendar 2.0//EN
METHOD:PUBLISH
X-PUBLISHED-TTL:P3D
REFRESH-INTERVAL:P3D
CALSCALE:GREGORIAN
BEGIN:VEVENT
DTSTART:20190718T210000Z
DTEND:20190718T230000Z
X-MICROSOFT-CDO-ALLDAYEVENT:FALSE
SUMMARY:Hard Hat Member Networking 7/18/19
DESCRIPTION:Join us at Park Lane Tavern for our Hard Hat Member Networking.\nHard Hat Networking is about building strong relationships and helping one another grow our businesses.\n\n\n\nThis months Hard Hat is sponsored by Boise Cascade.\n\nIf you are a member of FABA or interested in becoming a member\, Hard Hat is a great way to get to know the people in your industry circle and build lasting\, loyal business relationships.\n\nIf you would like more information about FABA\, please feel free to reach out to the FABA staff at (540) 898-2730.
X-ALT-DESC;FMTTYPE=text/html:<span style="font-size:16px\;"><span style="font-size:14px\;">Join us at Park Lane Tavern for our Hard Hat Member Networking.</span></span>\n<p style="margin: 0px 0px 6px\; font-family: Helvetica\, Arial\, sans-serif\; color: rgb(29\, 33\, 41)\; font-size: 14px\;">Hard Hat Networking is about building strong relationships and helping one another grow our businesses.<br />\n<br />\nThis months Hard Hat is sponsored by Boise Cascade.</p>\n\n<p style="margin: 6px 0px\; font-family: Helvetica\, Arial\, sans-serif\; color: rgb(29\, 33\, 41)\; font-size: 14px\;">If you are a member of FABA or interested in becoming a member\, Hard Hat is a great way to get to know the people in your industry circle and build lasting\, loyal business relationships.</p>\n\n<p style="margin: 6px 0px 0px\; display: inline\; font-family: Helvetica\, Arial\, sans-serif\; color: rgb(29\, 33\, 41)\; font-size: 14px\;">If you would like more information about FABA\, please feel free to reach out to the FABA staff at (540) 898-2730.</p>\n
LOCATION:Park Lane Tavern 1 Towne Centre Blvd. Fredericksburg\, VA 22407 (next to the movie theater behind the Spotsylvania Mall)
UID:e.9458.2844
SEQUENCE:3
DTSTAMP:20260422T162055Z
URL:http://fabava.memberzone.com/events/details/hard-hat-member-networking-7-18-19-2844
END:VEVENT

END:VCALENDAR
