BEGIN:VCALENDAR
VERSION:2.0
PRODID:-//ChamberMaster//Event Calendar 2.0//EN
METHOD:PUBLISH
X-PUBLISHED-TTL:P3D
REFRESH-INTERVAL:P3D
CALSCALE:GREGORIAN
BEGIN:VEVENT
DTSTART:20190620T210000Z
DTEND:20190620T230000Z
X-MICROSOFT-CDO-ALLDAYEVENT:FALSE
SUMMARY:Hard Hat Member Networking 6/20/19
DESCRIPTION:Join us at Splitsville for our Hard Hat Member Networking.\nHard Hat Networking is about building strong relationships and helping one another grow our businesses.\n\nThis months sponsor is Construction Materials Group.\n\nIf you are a member of FABA or interested in becoming a member\, Hard Hat is a great way to get to know the people in your industry circle and build lasting\, loyal business relationships.\n\nIf you would like more information about FABA\, please feel free to reach out to the FABA staff at (540) 898-2730.
X-ALT-DESC;FMTTYPE=text/html:<span style="font-size:16px\;"><span style="font-size:14px\;">Join us at Splitsville for our Hard Hat Member Networking.</span></span>\n<p style="margin: 0px 0px 6px\; font-family: Helvetica\, Arial\, sans-serif\; color: rgb(29\, 33\, 41)\; font-size: 14px\;">Hard Hat Networking is about building strong relationships and helping one another grow our businesses.<br />\nThis months sponsor is Construction Materials Group.</p>\n\n<p style="margin: 6px 0px\; font-family: Helvetica\, Arial\, sans-serif\; color: rgb(29\, 33\, 41)\; font-size: 14px\;">If you are a member of FABA or interested in becoming a member\, Hard Hat is a great way to get to know the people in your industry circle and build lasting\, loyal business relationships.</p>\n\n<p style="margin: 6px 0px 0px\; display: inline\; font-family: Helvetica\, Arial\, sans-serif\; color: rgb(29\, 33\, 41)\; font-size: 14px\;">If you would like more information about FABA\, please feel free to reach out to the FABA staff at (540) 898-2730.</p>\n
LOCATION:Splitsville 51 Towne Centre Blvd. Fredericksburg\, VA 22407 (next to the movie theater behind the Spotsylvania Mall)
UID:e.9458.2840
SEQUENCE:3
DTSTAMP:20260422T181501Z
URL:http://fabava.memberzone.com/events/details/hard-hat-member-networking-6-20-19-2840
END:VEVENT

END:VCALENDAR
