BEGIN:VCALENDAR
VERSION:2.0
PRODID:-//ChamberMaster//Event Calendar 2.0//EN
METHOD:PUBLISH
X-PUBLISHED-TTL:P3D
REFRESH-INTERVAL:P3D
CALSCALE:GREGORIAN
BEGIN:VEVENT
DTSTART;VALUE=DATE:20200703
DTEND;VALUE=DATE:20200704
TRANSP:TRANSPARENT
X-MICROSOFT-CDO-ALLDAYEVENT:TRUE
SUMMARY:Happy 4th of July! - FABA CLOSED
DESCRIPTION:FABA will be closed in observance of Independence Day!
X-ALT-DESC;FMTTYPE=text/html:FABA&nbsp\;will be closed in observance of Independence Day!&nbsp\;
LOCATION:
UID:e.9458.3117
SEQUENCE:3
DTSTAMP:20260421T161955Z
URL:http://fabava.memberzone.com/events/details/happy-4th-of-july-faba-closed-07-04-2020-3117
END:VEVENT

END:VCALENDAR
