BEGIN:VCALENDAR
VERSION:2.0
PRODID:-//ChamberMaster//Event Calendar 2.0//EN
METHOD:PUBLISH
X-PUBLISHED-TTL:P3D
REFRESH-INTERVAL:P3D
CALSCALE:GREGORIAN
BEGIN:VEVENT
DTSTART:20190606T123000Z
DTEND:20190606T140000Z
X-MICROSOFT-CDO-ALLDAYEVENT:FALSE
SUMMARY:Getting the Most out of your Membership 6/6/19
DESCRIPTION:New to FABA or just want a refresher? Please join us learn more about how to put your membership to work for you! Learn about ways to become more active in the association\, how you can take advantage of great discounts\, and how builders can earn rebates on the products they already purchase and use in the construction or renovations of home projects.\n\nRSVP Requested
X-ALT-DESC;FMTTYPE=text/html:<div id="u_fetchstream_24_19" style="font-family: Helvetica\, Arial\, sans-serif\; color: rgb(29\, 33\, 41)\; font-size: 12px\; background-color: rgb(233\, 235\, 238)\;">\n<div style="font-family: inherit\;">\n<div class="_4l8o _4-u2  _4-u8" style="border-width: 1px 0px\; border-style: solid\; border-color: transparent\; border-image: initial\; border-radius: 3px\; background-color: rgb(255\, 255\, 255)\; margin-bottom: 8px\; width: 500px\; position: relative\; font-family: inherit\;">\n<div class="_62hs _4-u3" style="border-top: 1px solid rgb(229\, 229\, 229)\; border-bottom-left-radius: 3px\; border-bottom-right-radius: 3px\; font-family: inherit\;">\n<div class="_63es _63et" style="font-family: inherit\;">\n<div class="_63eu" style="box-sizing: border-box\; font-size: 14px\; max-height: 260px\; overflow: hidden\; padding: 12px\; overflow-wrap: break-word\; font-family: inherit\;">\n<div class="_63ew" data-testid="event-permalink-details" style="white-space: pre-wrap\; font-family: inherit\;"><span style="font-family: inherit\;">New to FABA or just want a refresher? Please join us learn more about how to put your membership to work for you! Learn about ways to become more active in the association\, how you can take advantage of great discounts\, and how builders can earn rebates on the products they already purchase and use in the construction or renovations of home projects.<br />\nRSVP Requested</span></div>\n</div>\n</div>\n</div>\n</div>\n</div>\n</div>\n
LOCATION:FABA Boardroom 3006 Lafayette Blvd Fredericksburg\, VA 22407
UID:e.9458.2807
SEQUENCE:3
DTSTAMP:20260422T181401Z
URL:http://fabava.memberzone.com/events/details/getting-the-most-out-of-your-membership-6-6-19-2807
END:VEVENT

END:VCALENDAR
