BEGIN:VCALENDAR
VERSION:2.0
PRODID:-//ChamberMaster//Event Calendar 2.0//EN
METHOD:PUBLISH
X-PUBLISHED-TTL:P3D
REFRESH-INTERVAL:P3D
CALSCALE:GREGORIAN
BEGIN:VEVENT
DTSTART:20201029T210000Z
DTEND:20201029T213000Z
X-MICROSOFT-CDO-ALLDAYEVENT:FALSE
SUMMARY:FABA Young Professionals
DESCRIPTION:Are you a young professional in the building industry?  Interested in meeting with other young professionals and planning some events.  Then join us for this short meeting to get this committee started.\n\n\n\nWhen: Thursday\, October 29\, 5PM\n\n \nTopic: FABA Young Professionals\n\nTime: Oct 29\, 2020 05:00 PM Eastern Time (US and Canada)\n\n \n\nJoin Zoom Meeting\n\nhttps://us02web.zoom.us/j/86776185549\n\n \n\nMeeting ID: 867 7618 5549\n\nOne tap mobile\n\n+13017158592
X-ALT-DESC;FMTTYPE=text/html:Are you a young professional in the building industry?&nbsp\; Interested in meeting with other young professionals and planning some events.&nbsp\; Then join us for this short meeting to get this committee started.<br />\n<br />\nWhen: Thursday\, October 29\, 5PM<br />\n&nbsp\;\n<p class="x_MsoNormal" style="margin: 0in 0in 0.0001pt\; font-size: 11pt\; font-family: Calibri\, sans-serif\; color: rgb(32\, 31\, 30)\;">Topic: FABA Young Professionals</p>\n\n<p class="x_MsoNormal" style="margin: 0in 0in 0.0001pt\; font-size: 11pt\; font-family: Calibri\, sans-serif\; color: rgb(32\, 31\, 30)\;">Time: Oct 29\, 2020 05:00 PM Eastern Time (US and Canada)</p>\n\n<p class="x_MsoNormal" style="margin: 0in 0in 0.0001pt\; font-size: 11pt\; font-family: Calibri\, sans-serif\; color: rgb(32\, 31\, 30)\;">&nbsp\;</p>\n\n<p class="x_MsoNormal" style="margin: 0in 0in 0.0001pt\; font-size: 11pt\; font-family: Calibri\, sans-serif\; color: rgb(32\, 31\, 30)\;">Join Zoom Meeting</p>\n\n<p class="x_MsoNormal" style="margin: 0in 0in 0.0001pt\; font-size: 11pt\; font-family: Calibri\, sans-serif\; color: rgb(32\, 31\, 30)\;">https://us02web.zoom.us/j/86776185549</p>\n\n<p class="x_MsoNormal" style="margin: 0in 0in 0.0001pt\; font-size: 11pt\; font-family: Calibri\, sans-serif\; color: rgb(32\, 31\, 30)\;">&nbsp\;</p>\n\n<p class="x_MsoNormal" style="margin: 0in 0in 0.0001pt\; font-size: 11pt\; font-family: Calibri\, sans-serif\; color: rgb(32\, 31\, 30)\;">Meeting ID: 867 7618 5549</p>\n\n<p class="x_MsoNormal" style="margin: 0in 0in 0.0001pt\; font-size: 11pt\; font-family: Calibri\, sans-serif\; color: rgb(32\, 31\, 30)\;">One tap mobile</p>\n\n<p class="x_MsoNormal" style="margin: 0in 0in 0.0001pt\; font-size: 11pt\; font-family: Calibri\, sans-serif\; color: rgb(32\, 31\, 30)\;">+13017158592</p>\n\n<p class="x_MsoNormal" style="margin: 0in 0in 0.0001pt\; font-size: 11pt\; font-family: Calibri\, sans-serif\; color: rgb(32\, 31\, 30)\;">&nbsp\;</p>\n
LOCATION:Zoom
UID:e.9458.3159
SEQUENCE:3
DTSTAMP:20260421T125331Z
URL:http://fabava.memberzone.com/events/details/faba-young-professionals-3159
END:VEVENT

END:VCALENDAR
