BEGIN:VCALENDAR
VERSION:2.0
PRODID:-//ChamberMaster//Event Calendar 2.0//EN
METHOD:PUBLISH
X-PUBLISHED-TTL:P3D
REFRESH-INTERVAL:P3D
CALSCALE:GREGORIAN
BEGIN:VEVENT
DTSTART:20180719T213000Z
DTEND:20180720T000000Z
X-MICROSOFT-CDO-ALLDAYEVENT:FALSE
SUMMARY:FABA vs. FAAR Softball Game
DESCRIPTION:Join us for the first FABA vs. FAAR Softball Game! \n\nBring your glove & bat and play with us  \n\nor \n\nCome cheer on your FABA All-Stars!\n\nFood will be provided.\n\nGame starts at 6 pm!\n\n\n\nWhether you are playing or cheering register now for our FABA jerseys or "Team FABA" t-shirts! \n\n\n\n**Please include t-shirt size in registration comments**
X-ALT-DESC;FMTTYPE=text/html:<span style="font-size:14px\;">Join us for the first FABA vs. FAAR Softball Game!&nbsp\;<br />\nBring your glove &amp\; bat and play with us&nbsp\;&nbsp\;<br />\nor&nbsp\;<br />\nCome cheer on your FABA All-Stars!<br />\nFood will be provided.</span>\n<div data-block="true" data-editor="a73sl" data-offset-key="9n2uk-0-0" style="font-family: Helvetica\, Arial\, sans-serif\; color: rgb(29\, 33\, 41)\; font-size: 12px\; white-space: pre-wrap\;">\n<div class="_1mf _1mj" data-offset-key="9n2uk-0-0" style="position: relative\; direction: ltr\; font-family: inherit\;"><u><span style="font-size:14px\;"><span data-offset-key="9n2uk-0-0" style="font-family: inherit\;">Game starts at 6 pm!</span></span></u></div>\n</div>\n\n<div data-block="true" data-editor="a73sl" data-offset-key="5a2ef-0-0" style="font-family: Helvetica\, Arial\, sans-serif\; color: rgb(29\, 33\, 41)\; font-size: 12px\; white-space: pre-wrap\;">\n<div class="_1mf _1mj" data-offset-key="5a2ef-0-0" style="position: relative\; direction: ltr\; font-family: inherit\;"><span style="font-size:14px\;"><span data-offset-key="5a2ef-0-0" style="font-family: inherit\;">Whether you are playing or cheering register now for our FABA jerseys or &quot\;Team FABA&quot\; t-shirts! </span></span></div>\n</div>\n\n<div data-block="true" data-editor="a73sl" data-offset-key="ek4e5-0-0" style="font-family: Helvetica\, Arial\, sans-serif\; color: rgb(29\, 33\, 41)\; font-size: 12px\; white-space: pre-wrap\;">\n<div class="_1mf _1mj" data-offset-key="ek4e5-0-0" style="position: relative\; direction: ltr\; font-family: inherit\;"><span style="font-size:14px\;"><span data-offset-key="ek4e5-0-0" style="font-family: inherit\;">**Please include t-shirt size in registration comments**</span></span></div>\n</div>\n
LOCATION:Pratt Park 120 River Road\, Fredericksburg\, VA 22405
UID:e.9458.2604
SEQUENCE:3
DTSTAMP:20260423T221718Z
URL:http://fabava.memberzone.com/events/details/faba-vs-faar-softball-game-2604
END:VEVENT

END:VCALENDAR
