BEGIN:VCALENDAR
VERSION:2.0
PRODID:-//ChamberMaster//Event Calendar 2.0//EN
METHOD:PUBLISH
X-PUBLISHED-TTL:P3D
REFRESH-INTERVAL:P3D
CALSCALE:GREGORIAN
BEGIN:VEVENT
DTSTART:20220603T130000Z
DTEND:20220603T150000Z
X-MICROSOFT-CDO-ALLDAYEVENT:FALSE
SUMMARY:FABA Volunteer Day at Fredericksburg Food Bank
DESCRIPTION:Join FABA as we help to end hunger in Fredericksburg and surrounding counties. \n\nEveryone will need to wear closed-toed shoes\, no tank tops\,  short shorts or any other inappropriate wear.
X-ALT-DESC;FMTTYPE=text/html:Join FABA as we help to end hunger in Fredericksburg and surrounding counties.&nbsp\;<br />\nEveryone will need to wear closed-toed shoes\, no tank tops\,&nbsp\; short shorts or any other inappropriate wear.&nbsp\;
LOCATION:3631 Lee Hill Dr. Fredericksburg\, VA 22408
UID:e.9458.3644
SEQUENCE:3
DTSTAMP:20260419T194909Z
URL:http://fabava.memberzone.com/events/details/faba-volunteer-day-at-fredericksburg-food-bank-3644
END:VEVENT

END:VCALENDAR
