BEGIN:VCALENDAR
VERSION:2.0
PRODID:-//ChamberMaster//Event Calendar 2.0//EN
METHOD:PUBLISH
X-PUBLISHED-TTL:P3D
REFRESH-INTERVAL:P3D
CALSCALE:GREGORIAN
BEGIN:VEVENT
DTSTART:20190117T120000Z
DTEND:20190117T190000Z
X-MICROSOFT-CDO-ALLDAYEVENT:FALSE
SUMMARY:FABA to Capitol Hill (Richmond) 2019
DESCRIPTION:Join FABA as we storm Capitol Hill in Richmond to meet our legislators before they begin the 2019 session.\n\nWe have the following meetings set up and we will need to split into groups to attend all meetings:\n8:30       Nicholas Freitas - Pocahontas Building\, 900 Main St\, Room E421\n\n8:30       Ryan McDougle - Pocahontas Building\, 900 Main St\, Room E501\n\n9:00       Buddy Fowler - Pocahontas Building\, 900 Main St\, Room E213\n\n9:30       Cynthia Daiger\, Legislative Assistant for Margaret B. Ransone - Pocahontas Building\, 900 Main St\, Room E412\n\n10:10     Bob Thomas - Pocahontas Building\, 900 Main St\, Room E310\n\n10:15     Mark Cole - Pocahontas Building\, 900 Main St\, Room E202\n\n10:15     Bryce Reeves - Pocahontas Building\, 900 Main St\, Room E521\n\n10:30     Bobby Orrock - Pocahontas Building\, 900 Main St\, Room E309
X-ALT-DESC;FMTTYPE=text/html:<span style="font-size:12px\;"><span style="font-family:arial\;">Join FABA as we storm Capitol Hill in Richmond to meet our legislators before they begin the 2019 session.<br />\nWe have the following meetings set up and we will need to split into groups to attend all meetings:</span></span>\n<p style="color: rgb(0\, 0\, 0)\; font-family: Calibri\, Helvetica\, sans-serif\, serif\, EmojiFont\; font-size: 16px\; margin: 0px\;"><span style="font-size:12px\;"><span style="font-family:arial\;"><span style="color: rgb(33\, 33\, 33)\;">8:30&nbsp\;&nbsp\;&nbsp\;&nbsp\;&nbsp\;&nbsp\; Nicholas Freitas -</span></span></span><span style="font-size:12px\;"><span style="font-family:arial\;"><span style="color: rgb(33\, 33\, 33)\;">&nbsp\;Pocahontas Building\, 900 Main St\, Room E421</span></span></span></p>\n\n<p style="color: rgb(0\, 0\, 0)\; font-family: Calibri\, Helvetica\, sans-serif\, serif\, EmojiFont\; font-size: 16px\; margin: 0px\;"><span style="font-size:12px\;"><span style="font-family:arial\;"><span style="color: rgb(33\, 33\, 33)\;">8:30&nbsp\;&nbsp\;&nbsp\;&nbsp\;&nbsp\;&nbsp\; Ryan McDougle -</span></span></span><span style="font-size:12px\;"><span style="font-family:arial\;"><span style="color: rgb(33\, 33\, 33)\;">&nbsp\;Pocahontas Building\, 900 Main St\, Room E501</span></span></span></p>\n\n<p style="color: rgb(0\, 0\, 0)\; font-family: Calibri\, Helvetica\, sans-serif\, serif\, EmojiFont\; font-size: 16px\; margin: 0px\;"><span style="font-size:12px\;"><span style="font-family:arial\;"><span style="color: rgb(33\, 33\, 33)\;">9:00&nbsp\;&nbsp\;&nbsp\;&nbsp\;&nbsp\;&nbsp\; Buddy Fowler -</span></span></span><span style="font-size:12px\;"><span style="font-family:arial\;"><span style="color: rgb(33\, 33\, 33)\;">&nbsp\;Pocahontas Building\, 900 Main St\, Room E213</span></span></span></p>\n\n<p style="color: rgb(0\, 0\, 0)\; font-family: Calibri\, Helvetica\, sans-serif\, serif\, EmojiFont\; font-size: 16px\; margin: 0px\;"><span style="font-size:12px\;"><span style="font-family:arial\;"><span style="color: rgb(33\, 33\, 33)\;">9:30&nbsp\;&nbsp\;&nbsp\;&nbsp\;&nbsp\;&nbsp\; Cynthia Daiger\, Legislative Assistant for Margaret B. Ransone -</span></span></span><span style="font-size:12px\;"><span style="font-family:arial\;"><span style="color: rgb(33\, 33\, 33)\;">&nbsp\;Pocahontas Building\, 900 Main St\, Room E412</span></span></span></p>\n\n<p style="color: rgb(0\, 0\, 0)\; font-family: Calibri\, Helvetica\, sans-serif\, serif\, EmojiFont\; font-size: 16px\; margin: 0px\;"><span style="font-size:12px\;"><span style="font-family:arial\;"><span style="color: rgb(33\, 33\, 33)\;">10:10&nbsp\;&nbsp\;&nbsp\;&nbsp\; Bob Thomas</span></span></span><span style="font-size:12px\;"><span style="font-family:arial\;"><span style="color: rgb(33\, 33\, 33)\;">&nbsp\;-&nbsp\;Pocahontas Building\, 900 Main St\, Room E310</span></span></span></p>\n\n<p style="color: rgb(0\, 0\, 0)\; font-family: Calibri\, Helvetica\, sans-serif\, serif\, EmojiFont\; font-size: 16px\; margin: 0px\;"><span style="font-size:12px\;"><span style="font-family:arial\;"><span style="color: rgb(33\, 33\, 33)\;">10:15&nbsp\;&nbsp\;&nbsp\;&nbsp\; Mark Cole</span></span></span><span style="font-size:12px\;"><span style="font-family:arial\;"><span style="color: rgb(33\, 33\, 33)\;">&nbsp\;- Pocahontas Building\, 900 Main St\, Room E202</span></span></span></p>\n\n<p style="color: rgb(0\, 0\, 0)\; font-family: Calibri\, Helvetica\, sans-serif\, serif\, EmojiFont\; font-size: 16px\; margin: 0px\;"><span style="font-size:12px\;"><span style="font-family:arial\;"><span style="color: rgb(33\, 33\, 33)\;">10:15&nbsp\;&nbsp\;&nbsp\;&nbsp\; Bryce Reeves -</span></span></span><span style="font-size:12px\;"><span style="font-family:arial\;"><span style="color: rgb(33\, 33\, 33)\;">&nbsp\;Pocahontas Building\, 900 Main St\, Room E521</span></span></span></p>\n\n<p style="color: rgb(0\, 0\, 0)\; font-family: Calibri\, Helvetica\, sans-serif\, serif\, EmojiFont\; font-size: 16px\; margin: 0px\;"><span style="font-size:12px\;"><span style="font-family:arial\;"><span style="color: rgb(33\, 33\, 33)\;">10:30&nbsp\;&nbsp\;&nbsp\;&nbsp\; Bobby Orrock -&nbsp\;</span></span></span><span style="font-size:12px\;"><span style="font-family:arial\;"><span style="color: rgb(33\, 33\, 33)\;">Pocahontas Building\, 900 Main St\, Room E309</span></span></span></p>\n
LOCATION:TO CARPOOL FROM FREDERICKSBURG: Meet at 6:45 am at Cracker Barrel in Massaponax (5200 Southpoint Pkwy\, Fredericksburg\, VA 22407) We will leave from there promptly. IF MEETING US IN RICHMOND: Meet at 8:15 in the LOBBY of the Pocahontas Building (900 Main St\, Richmond VA) PLEASE CALL FABA AT (540) 898-2730 TO LET US KNOW YOU ARE COMING SO WE KNOW TO WAIT FOR YOU.
UID:e.9458.2689
SEQUENCE:3
DTSTAMP:20260423T080848Z
URL:http://fabava.memberzone.com/events/details/faba-to-capitol-hill-richmond-2019-2689
END:VEVENT

END:VCALENDAR
