BEGIN:VCALENDAR
VERSION:2.0
PRODID:-//ChamberMaster//Event Calendar 2.0//EN
METHOD:PUBLISH
X-PUBLISHED-TTL:P3D
REFRESH-INTERVAL:P3D
CALSCALE:GREGORIAN
BEGIN:VEVENT
DTSTART;VALUE=DATE:20200504
DTEND;VALUE=DATE:20200505
TRANSP:TRANSPARENT
X-MICROSOFT-CDO-ALLDAYEVENT:TRUE
SUMMARY:FABA Lego Building Contest
DESCRIPTION:CALLING ALL LEGO BUILDERS!\n\n\n\nLooking for something fun for your kids to do? Want to add a little 'tech ed' into their home school education? We're having a Lego Home Building Contest and challenging all Lego builders age 3-17 to show off your master Lego skills! Winners will receive a $25 Amazon Gift Card. Submissions are due Monday\, May 4th.\n\n\n\nHOW DOES IT WORK?\n\n\n\n1) Pull out your Legos.\n\n2) Build the best house out of Legos that you can. (It has to be an original house and not one from a kit.)\n\n3) Snap a photo of your Lego House with several angles. (Be sure to let us know about any special features.)\n\n4) Send the photo to us by Facebook Direct Message or by email to admin@fabava.com by Monday 5/4/20. Please include the 1st name and age of the child who built the house.\n\n5) Our team of 'experts' will select the winners. Depending on entries\, winners will be broken into age categories.\n\n6) We will post all of the homes and the winners on Facebook.\n\nWe're looking forward to seeing all of the FABAlous creations you come up with!
X-ALT-DESC;FMTTYPE=text/html:<span style="color: rgb(32\, 31\, 30)\; font-family: &quot\;Segoe UI&quot\;\, &quot\;Segoe UI Web (West European)&quot\;\, &quot\;Segoe UI&quot\;\, -apple-system\, BlinkMacSystemFont\, Roboto\, &quot\;Helvetica Neue&quot\;\, sans-serif\; font-size: 14.6667px\;">CALLING ALL LEGO BUILDERS!</span><br style="color: rgb(32\, 31\, 30)\; font-family: &quot\;Segoe UI&quot\;\, &quot\;Segoe UI Web (West European)&quot\;\, &quot\;Segoe UI&quot\;\, -apple-system\, BlinkMacSystemFont\, Roboto\, &quot\;Helvetica Neue&quot\;\, sans-serif\; font-size: 14.6667px\;" />\n<br style="color: rgb(32\, 31\, 30)\; font-family: &quot\;Segoe UI&quot\;\, &quot\;Segoe UI Web (West European)&quot\;\, &quot\;Segoe UI&quot\;\, -apple-system\, BlinkMacSystemFont\, Roboto\, &quot\;Helvetica Neue&quot\;\, sans-serif\; font-size: 14.6667px\;" />\n<span style="color: rgb(32\, 31\, 30)\; font-family: &quot\;Segoe UI&quot\;\, &quot\;Segoe UI Web (West European)&quot\;\, &quot\;Segoe UI&quot\;\, -apple-system\, BlinkMacSystemFont\, Roboto\, &quot\;Helvetica Neue&quot\;\, sans-serif\; font-size: 14.6667px\;">Looking for something fun for your kids to do? Want to add a little &#39\;tech ed&#39\; into their home school education? We&#39\;re having a Lego Home Building Contest and challenging all Lego builders age 3-17 to show off your master Lego skills! Winners will receive a $25 Amazon Gift Card. Submissions are due Monday\, May 4th.</span><br style="color: rgb(32\, 31\, 30)\; font-family: &quot\;Segoe UI&quot\;\, &quot\;Segoe UI Web (West European)&quot\;\, &quot\;Segoe UI&quot\;\, -apple-system\, BlinkMacSystemFont\, Roboto\, &quot\;Helvetica Neue&quot\;\, sans-serif\; font-size: 14.6667px\;" />\n<br style="color: rgb(32\, 31\, 30)\; font-family: &quot\;Segoe UI&quot\;\, &quot\;Segoe UI Web (West European)&quot\;\, &quot\;Segoe UI&quot\;\, -apple-system\, BlinkMacSystemFont\, Roboto\, &quot\;Helvetica Neue&quot\;\, sans-serif\; font-size: 14.6667px\;" />\n<span style="color: rgb(32\, 31\, 30)\; font-family: &quot\;Segoe UI&quot\;\, &quot\;Segoe UI Web (West European)&quot\;\, &quot\;Segoe UI&quot\;\, -apple-system\, BlinkMacSystemFont\, Roboto\, &quot\;Helvetica Neue&quot\;\, sans-serif\; font-size: 14.6667px\;">HOW DOES IT WORK?</span><br style="color: rgb(32\, 31\, 30)\; font-family: &quot\;Segoe UI&quot\;\, &quot\;Segoe UI Web (West European)&quot\;\, &quot\;Segoe UI&quot\;\, -apple-system\, BlinkMacSystemFont\, Roboto\, &quot\;Helvetica Neue&quot\;\, sans-serif\; font-size: 14.6667px\;" />\n<br style="color: rgb(32\, 31\, 30)\; font-family: &quot\;Segoe UI&quot\;\, &quot\;Segoe UI Web (West European)&quot\;\, &quot\;Segoe UI&quot\;\, -apple-system\, BlinkMacSystemFont\, Roboto\, &quot\;Helvetica Neue&quot\;\, sans-serif\; font-size: 14.6667px\;" />\n<span style="color: rgb(32\, 31\, 30)\; font-family: &quot\;Segoe UI&quot\;\, &quot\;Segoe UI Web (West European)&quot\;\, &quot\;Segoe UI&quot\;\, -apple-system\, BlinkMacSystemFont\, Roboto\, &quot\;Helvetica Neue&quot\;\, sans-serif\; font-size: 14.6667px\;">1) Pull out your Legos.</span><br style="color: rgb(32\, 31\, 30)\; font-family: &quot\;Segoe UI&quot\;\, &quot\;Segoe UI Web (West European)&quot\;\, &quot\;Segoe UI&quot\;\, -apple-system\, BlinkMacSystemFont\, Roboto\, &quot\;Helvetica Neue&quot\;\, sans-serif\; font-size: 14.6667px\;" />\n<span style="color: rgb(32\, 31\, 30)\; font-family: &quot\;Segoe UI&quot\;\, &quot\;Segoe UI Web (West European)&quot\;\, &quot\;Segoe UI&quot\;\, -apple-system\, BlinkMacSystemFont\, Roboto\, &quot\;Helvetica Neue&quot\;\, sans-serif\; font-size: 14.6667px\;">2) Build the best house out of Legos that you can. (It has to be an original house and not one from a kit.)</span><br style="color: rgb(32\, 31\, 30)\; font-family: &quot\;Segoe UI&quot\;\, &quot\;Segoe UI Web (West European)&quot\;\, &quot\;Segoe UI&quot\;\, -apple-system\, BlinkMacSystemFont\, Roboto\, &quot\;Helvetica Neue&quot\;\, sans-serif\; font-size: 14.6667px\;" />\n<span style="color: rgb(32\, 31\, 30)\; font-family: &quot\;Segoe UI&quot\;\, &quot\;Segoe UI Web (West European)&quot\;\, &quot\;Segoe UI&quot\;\, -apple-system\, BlinkMacSystemFont\, Roboto\, &quot\;Helvetica Neue&quot\;\, sans-serif\; font-size: 14.6667px\;">3) Snap a photo of your Lego House with several angles. (Be sure to let us know about any special features.)</span><br style="color: rgb(32\, 31\, 30)\; font-family: &quot\;Segoe UI&quot\;\, &quot\;Segoe UI Web (West European)&quot\;\, &quot\;Segoe UI&quot\;\, -apple-system\, BlinkMacSystemFont\, Roboto\, &quot\;Helvetica Neue&quot\;\, sans-serif\; font-size: 14.6667px\;" />\n<span style="color: rgb(32\, 31\, 30)\; font-family: &quot\;Segoe UI&quot\;\, &quot\;Segoe UI Web (West European)&quot\;\, &quot\;Segoe UI&quot\;\, -apple-system\, BlinkMacSystemFont\, Roboto\, &quot\;Helvetica Neue&quot\;\, sans-serif\; font-size: 14.6667px\;">4) Send the photo to us by Facebook Direct Message or by email to admin@fabava.com by Monday 5/4/20. Please include the 1st name and age of the child who built the house.</span><br style="color: rgb(32\, 31\, 30)\; font-family: &quot\;Segoe UI&quot\;\, &quot\;Segoe UI Web (West European)&quot\;\, &quot\;Segoe UI&quot\;\, -apple-system\, BlinkMacSystemFont\, Roboto\, &quot\;Helvetica Neue&quot\;\, sans-serif\; font-size: 14.6667px\;" />\n<span style="color: rgb(32\, 31\, 30)\; font-family: &quot\;Segoe UI&quot\;\, &quot\;Segoe UI Web (West European)&quot\;\, &quot\;Segoe UI&quot\;\, -apple-system\, BlinkMacSystemFont\, Roboto\, &quot\;Helvetica Neue&quot\;\, sans-serif\; font-size: 14.6667px\;">5) Our team of &#39\;experts&#39\; will select the winners. Depending on entries\, winners will be broken into age categories.</span><br style="color: rgb(32\, 31\, 30)\; font-family: &quot\;Segoe UI&quot\;\, &quot\;Segoe UI Web (West European)&quot\;\, &quot\;Segoe UI&quot\;\, -apple-system\, BlinkMacSystemFont\, Roboto\, &quot\;Helvetica Neue&quot\;\, sans-serif\; font-size: 14.6667px\;" />\n<span style="color: rgb(32\, 31\, 30)\; font-family: &quot\;Segoe UI&quot\;\, &quot\;Segoe UI Web (West European)&quot\;\, &quot\;Segoe UI&quot\;\, -apple-system\, BlinkMacSystemFont\, Roboto\, &quot\;Helvetica Neue&quot\;\, sans-serif\; font-size: 14.6667px\;">6) We will post all of the homes and the winners on Facebook.</span><br style="color: rgb(32\, 31\, 30)\; font-family: &quot\;Segoe UI&quot\;\, &quot\;Segoe UI Web (West European)&quot\;\, &quot\;Segoe UI&quot\;\, -apple-system\, BlinkMacSystemFont\, Roboto\, &quot\;Helvetica Neue&quot\;\, sans-serif\; font-size: 14.6667px\;" />\n<span style="color: rgb(32\, 31\, 30)\; font-family: &quot\;Segoe UI&quot\;\, &quot\;Segoe UI Web (West European)&quot\;\, &quot\;Segoe UI&quot\;\, -apple-system\, BlinkMacSystemFont\, Roboto\, &quot\;Helvetica Neue&quot\;\, sans-serif\; font-size: 14.6667px\;">We&#39\;re looking forward to seeing all of the FABAlous creations you come up with!</span>
LOCATION:Your Home!
UID:e.9458.3085
SEQUENCE:3
DTSTAMP:20260421T214242Z
URL:http://fabava.memberzone.com/events/details/faba-lego-building-contest-3085
END:VEVENT

END:VCALENDAR
