BEGIN:VCALENDAR
VERSION:2.0
PRODID:-//ChamberMaster//Event Calendar 2.0//EN
METHOD:PUBLISH
X-PUBLISHED-TTL:P3D
REFRESH-INTERVAL:P3D
CALSCALE:GREGORIAN
BEGIN:VEVENT
DTSTART:20201014T143000Z
DTEND:20201014T153000Z
X-MICROSOFT-CDO-ALLDAYEVENT:FALSE
SUMMARY:FABA Fantasy Football League Membership Drive Kick Off with NAHB
DESCRIPTION:Join us for our Fantasy Football League Membership Drive Kickoff meeting led by Reagan Van Cleeve and Isabel Shocket from NAHB!  \n\nHelp us get a 1st down for FABA and drive to score for our membership!  \n\n \n\n \n\nTopic: FABA Membership Drive Kick off\n\nTime: October 14th\, 2020 10:30 AM Eastern Time (US and Canada)\n\n       \n\nJoin Zoom Meeting\n\nhttps://us02web.zoom.us/j/85860734579\n\n \n\nMeeting ID: 858 6073 4579\n\nOne tap mobile\n\n+13126266799\,\,85860734579# US (Chicago)\n\n+16465588656\,\,85860734579# US (New York)\n\n \n\nDial by your location\n\n        +1 312 626 6799 US (Chicago)\n\n        +1 646 558 8656 US (New York)\n\n        +1 301 715 8592 US (Germantown)\n\n        +1 346 248 7799 US (Houston)\n\n        +1 669 900 9128 US (San Jose)\n\n        +1 253 215 8782 US (Tacoma)\n\nMeeting ID: 858 6073 4579\n\nFind your local number: https://us02web.zoom.us/u/kd3JmNYN7L
X-ALT-DESC;FMTTYPE=text/html:<p class="x_x_x_MsoNormal" style="color: rgb(50\, 49\, 48)\; margin: 0in 0in 0.0001pt\; font-size: 11pt\; font-family: Calibri\, sans-serif\;"><span style="margin: 0px\; padding: 0px\; border: 0px\; font-style: inherit\; font-variant: inherit\; font-weight: inherit\; font-stretch: inherit\; font-size: 16pt\; line-height: inherit\; vertical-align: baseline\; color: rgb(32\, 31\, 30)\;">Join us for our Fantasy Football League Membership Drive Kickoff meeting led by Reagan Van Cleeve and Isabel Shocket from NAHB!&nbsp\;&nbsp\;</span></p>\n\n<p class="x_x_x_MsoNormal" style="color: rgb(50\, 49\, 48)\; margin: 0in 0in 0.0001pt\; font-size: 11pt\; font-family: Calibri\, sans-serif\;"><span style="margin: 0px\; padding: 0px\; border: 0px\; font-style: inherit\; font-variant: inherit\; font-weight: inherit\; font-stretch: inherit\; font-size: 16pt\; line-height: inherit\; vertical-align: baseline\; color: rgb(32\, 31\, 30)\;">Help us get a 1st down for FABA and drive to score for our membership!&nbsp\;&nbsp\;</span></p>\n\n<p class="x_x_x_MsoNormal" style="color: rgb(50\, 49\, 48)\; margin: 0in 0in 0.0001pt\; font-size: 11pt\; font-family: Calibri\, sans-serif\;">&nbsp\;</p>\n\n<p class="x_x_x_MsoNormal" style="color: rgb(50\, 49\, 48)\; margin: 0in 0in 0.0001pt\; font-size: 11pt\; font-family: Calibri\, sans-serif\;">&nbsp\;</p>\n\n<p class="x_x_x_MsoNormal" style="color: rgb(50\, 49\, 48)\; margin: 0in 0in 0.0001pt\; font-size: 11pt\; font-family: Calibri\, sans-serif\;"><span style="margin: 0px\; padding: 0px\; border: 0px\; font-style: inherit\; font-variant: inherit\; font-weight: inherit\; font-stretch: inherit\; font-size: 14pt\; line-height: inherit\; vertical-align: baseline\; color: rgb(32\, 31\, 30)\;">Topic: FABA&nbsp\;</span><span class="x_x_x_marks5wk9trn8" style="margin: 0px\; padding: 0px\; border: 0px\; font-style: inherit\; font-variant: inherit\; font-weight: inherit\; font-stretch: inherit\; font-size: 14pt\; line-height: inherit\; vertical-align: baseline\; color: rgb(32\, 31\, 30)\;">Membershi</span><span style="margin: 0px\; padding: 0px\; border: 0px\; font-style: inherit\; font-variant: inherit\; font-weight: inherit\; font-stretch: inherit\; font-size: 14pt\; line-height: inherit\; vertical-align: baseline\; color: rgb(32\, 31\, 30)\;">p Drive Kick off</span></p>\n\n<p class="x_x_x_x_x_MsoNormal" style="margin: 0in 0in 0.0001pt\; font-family: Calibri\, sans-serif\; font-size: 11pt\; color: rgb(32\, 31\, 30)\;"><span style="margin: 0px\; padding: 0px\; border: 0px\; font-style: inherit\; font-variant: inherit\; font-weight: inherit\; font-stretch: inherit\; font-size: 14pt\; line-height: inherit\; font-family: inherit\; vertical-align: baseline\; color: inherit\;">Time: October 14th\, 2020 10:30 AM Eastern Time (US and Canada)</span></p>\n\n<p class="x_x_x_x_x_MsoNormal" style="margin: 0in 0in 0.0001pt\; font-family: Calibri\, sans-serif\; font-size: 11pt\; color: rgb(32\, 31\, 30)\;"><span style="margin: 0px\; padding: 0px\; border: 0px\; font-style: inherit\; font-variant: inherit\; font-weight: inherit\; font-stretch: inherit\; font-size: 14pt\; line-height: inherit\; font-family: inherit\; vertical-align: baseline\; color: inherit\;">&nbsp\;&nbsp\;&nbsp\;&nbsp\;&nbsp\;&nbsp\;&nbsp\;</span></p>\n\n<p class="x_x_x_x_x_MsoNormal" style="margin: 0in 0in 0.0001pt\; font-family: Calibri\, sans-serif\; font-size: 11pt\; color: rgb(32\, 31\, 30)\;"><span style="margin: 0px\; padding: 0px\; border: 0px\; font-style: inherit\; font-variant: inherit\; font-weight: inherit\; font-stretch: inherit\; font-size: 14pt\; line-height: inherit\; font-family: inherit\; vertical-align: baseline\; color: inherit\;">Join Zoom Meeting</span></p>\n\n<p class="x_x_x_x_x_MsoNormal" style="margin: 0in 0in 0.0001pt\; font-family: Calibri\, sans-serif\; font-size: 11pt\; color: rgb(32\, 31\, 30)\;"><span style="margin: 0px\; padding: 0px\; border: 0px\; font-style: inherit\; font-variant: inherit\; font-weight: inherit\; font-stretch: inherit\; font-size: 14pt\; line-height: inherit\; font-family: inherit\; vertical-align: baseline\; color: inherit\;">https://us02web.zoom.us/j/85860734579</span></p>\n\n<p class="x_x_x_x_x_MsoNormal" style="margin: 0in 0in 0.0001pt\; font-family: Calibri\, sans-serif\; font-size: 11pt\; color: rgb(32\, 31\, 30)\;">&nbsp\;</p>\n\n<p class="x_x_x_x_x_MsoNormal" style="margin: 0in 0in 0.0001pt\; font-family: Calibri\, sans-serif\; font-size: 11pt\; color: rgb(32\, 31\, 30)\;"><span style="margin: 0px\; padding: 0px\; border: 0px\; font-style: inherit\; font-variant: inherit\; font-weight: inherit\; font-stretch: inherit\; font-size: 14pt\; line-height: inherit\; font-family: inherit\; vertical-align: baseline\; color: inherit\;">Meeting ID: 858 6073 4579</span></p>\n\n<p class="x_x_x_x_x_MsoNormal" style="margin: 0in 0in 0.0001pt\; font-family: Calibri\, sans-serif\; font-size: 11pt\; color: rgb(32\, 31\, 30)\;"><span style="margin: 0px\; padding: 0px\; border: 0px\; font-style: inherit\; font-variant: inherit\; font-weight: inherit\; font-stretch: inherit\; font-size: 14pt\; line-height: inherit\; font-family: inherit\; vertical-align: baseline\; color: inherit\;">One tap mobile</span></p>\n\n<p class="x_x_x_x_x_MsoNormal" style="margin: 0in 0in 0.0001pt\; font-family: Calibri\, sans-serif\; font-size: 11pt\; color: rgb(32\, 31\, 30)\;"><span style="margin: 0px\; padding: 0px\; border: 0px\; font-style: inherit\; font-variant: inherit\; font-weight: inherit\; font-stretch: inherit\; font-size: 14pt\; line-height: inherit\; font-family: inherit\; vertical-align: baseline\; color: inherit\;">+13126266799\,\,85860734579# US (Chicago)</span></p>\n\n<p class="x_x_x_x_x_MsoNormal" style="margin: 0in 0in 0.0001pt\; font-family: Calibri\, sans-serif\; font-size: 11pt\; color: rgb(32\, 31\, 30)\;"><span style="margin: 0px\; padding: 0px\; border: 0px\; font-style: inherit\; font-variant: inherit\; font-weight: inherit\; font-stretch: inherit\; font-size: 14pt\; line-height: inherit\; font-family: inherit\; vertical-align: baseline\; color: inherit\;">+16465588656\,\,85860734579# US (New York)</span></p>\n\n<p class="x_x_x_x_x_MsoNormal" style="margin: 0in 0in 0.0001pt\; font-family: Calibri\, sans-serif\; font-size: 11pt\; color: rgb(32\, 31\, 30)\;">&nbsp\;</p>\n\n<p class="x_x_x_x_x_MsoNormal" style="margin: 0in 0in 0.0001pt\; font-family: Calibri\, sans-serif\; font-size: 11pt\; color: rgb(32\, 31\, 30)\;"><span style="margin: 0px\; padding: 0px\; border: 0px\; font-style: inherit\; font-variant: inherit\; font-weight: inherit\; font-stretch: inherit\; font-size: 14pt\; line-height: inherit\; font-family: inherit\; vertical-align: baseline\; color: inherit\;">Dial by your location</span></p>\n\n<p class="x_x_x_x_x_MsoNormal" style="margin: 0in 0in 0.0001pt\; font-family: Calibri\, sans-serif\; font-size: 11pt\; color: rgb(32\, 31\, 30)\;"><span style="margin: 0px\; padding: 0px\; border: 0px\; font-style: inherit\; font-variant: inherit\; font-weight: inherit\; font-stretch: inherit\; font-size: 14pt\; line-height: inherit\; font-family: inherit\; vertical-align: baseline\; color: inherit\;">&nbsp\;&nbsp\;&nbsp\;&nbsp\;&nbsp\;&nbsp\;&nbsp\; +1 312 626 6799 US (Chicago)</span></p>\n\n<p class="x_x_x_x_x_MsoNormal" style="margin: 0in 0in 0.0001pt\; font-family: Calibri\, sans-serif\; font-size: 11pt\; color: rgb(32\, 31\, 30)\;"><span style="margin: 0px\; padding: 0px\; border: 0px\; font-style: inherit\; font-variant: inherit\; font-weight: inherit\; font-stretch: inherit\; font-size: 14pt\; line-height: inherit\; font-family: inherit\; vertical-align: baseline\; color: inherit\;">&nbsp\;&nbsp\;&nbsp\;&nbsp\;&nbsp\;&nbsp\;&nbsp\; +1 646 558 8656 US (New York)</span></p>\n\n<p class="x_x_x_x_x_MsoNormal" style="margin: 0in 0in 0.0001pt\; font-family: Calibri\, sans-serif\; font-size: 11pt\; color: rgb(32\, 31\, 30)\;"><span style="margin: 0px\; padding: 0px\; border: 0px\; font-style: inherit\; font-variant: inherit\; font-weight: inherit\; font-stretch: inherit\; font-size: 14pt\; line-height: inherit\; font-family: inherit\; vertical-align: baseline\; color: inherit\;">&nbsp\;&nbsp\;&nbsp\;&nbsp\;&nbsp\;&nbsp\;&nbsp\; +1 301 715 8592 US (Germantown)</span></p>\n\n<p class="x_x_x_x_x_MsoNormal" style="margin: 0in 0in 0.0001pt\; font-family: Calibri\, sans-serif\; font-size: 11pt\; color: rgb(32\, 31\, 30)\;"><span style="margin: 0px\; padding: 0px\; border: 0px\; font-style: inherit\; font-variant: inherit\; font-weight: inherit\; font-stretch: inherit\; font-size: 14pt\; line-height: inherit\; font-family: inherit\; vertical-align: baseline\; color: inherit\;">&nbsp\;&nbsp\;&nbsp\;&nbsp\;&nbsp\;&nbsp\;&nbsp\; +1 346 248 7799 US (Houston)</span></p>\n\n<p class="x_x_x_x_x_MsoNormal" style="margin: 0in 0in 0.0001pt\; font-family: Calibri\, sans-serif\; font-size: 11pt\; color: rgb(32\, 31\, 30)\;"><span style="margin: 0px\; padding: 0px\; border: 0px\; font-style: inherit\; font-variant: inherit\; font-weight: inherit\; font-stretch: inherit\; font-size: 14pt\; line-height: inherit\; font-family: inherit\; vertical-align: baseline\; color: inherit\;">&nbsp\;&nbsp\;&nbsp\;&nbsp\;&nbsp\;&nbsp\;&nbsp\; +1 669 900 9128 US (San Jose)</span></p>\n\n<p class="x_x_x_x_x_MsoNormal" style="margin: 0in 0in 0.0001pt\; font-family: Calibri\, sans-serif\; font-size: 11pt\; color: rgb(32\, 31\, 30)\;"><span style="margin: 0px\; padding: 0px\; border: 0px\; font-style: inherit\; font-variant: inherit\; font-weight: inherit\; font-stretch: inherit\; font-size: 14pt\; line-height: inherit\; font-family: inherit\; vertical-align: baseline\; color: inherit\;">&nbsp\;&nbsp\;&nbsp\;&nbsp\;&nbsp\;&nbsp\;&nbsp\; +1 253 215 8782 US (Tacoma)</span></p>\n\n<p class="x_x_x_x_x_MsoNormal" style="margin: 0in 0in 0.0001pt\; font-family: Calibri\, sans-serif\; font-size: 11pt\; color: rgb(32\, 31\, 30)\;"><span style="margin: 0px\; padding: 0px\; border: 0px\; font-style: inherit\; font-variant: inherit\; font-weight: inherit\; font-stretch: inherit\; font-size: 14pt\; line-height: inherit\; font-family: inherit\; vertical-align: baseline\; color: inherit\;">Meeting ID: 858 6073 4579</span></p>\n\n<p class="x_x_x_x_x_MsoNormal" style="margin: 0in 0in 0.0001pt\; font-family: Calibri\, sans-serif\; font-size: 11pt\; color: rgb(32\, 31\, 30)\;"><span style="margin: 0px\; padding: 0px\; border: 0px\; font-style: inherit\; font-variant: inherit\; font-weight: inherit\; font-stretch: inherit\; font-size: 14pt\; line-height: inherit\; font-family: inherit\; vertical-align: baseline\; color: inherit\;">Find your local number: https://us02web.zoom.us/u/kd3JmNYN7L</span></p>\n\n<div>&nbsp\;</div>\n
LOCATION:
UID:e.9458.3160
SEQUENCE:3
DTSTAMP:20260421T112127Z
URL:http://fabava.memberzone.com/events/details/faba-fantasy-football-league-membership-drive-kick-off-with-nahb-3160
END:VEVENT

END:VCALENDAR
