BEGIN:VCALENDAR
VERSION:2.0
PRODID:-//ChamberMaster//Event Calendar 2.0//EN
METHOD:PUBLISH
X-PUBLISHED-TTL:P3D
REFRESH-INTERVAL:P3D
CALSCALE:GREGORIAN
BEGIN:VEVENT
DTSTART:20190206T140000Z
DTEND:20190207T030000Z
X-MICROSOFT-CDO-ALLDAYEVENT:FALSE
SUMMARY:FAB Foundation
DESCRIPTION:
X-ALT-DESC;FMTTYPE=text/html:
LOCATION:
UID:e.9458.1276
SEQUENCE:3
DTSTAMP:20260423T044606Z
URL:http://fabava.memberzone.com/events/details/fab-foundation-02-06-2019-1276
END:VEVENT

END:VCALENDAR
