BEGIN:VCALENDAR
VERSION:2.0
PRODID:-//ChamberMaster//Event Calendar 2.0//EN
METHOD:PUBLISH
X-PUBLISHED-TTL:P3D
REFRESH-INTERVAL:P3D
CALSCALE:GREGORIAN
BEGIN:VEVENT
DTSTART:20181106T110000Z
DTEND:20181107T000000Z
X-MICROSOFT-CDO-ALLDAYEVENT:FALSE
SUMMARY:Election Day
DESCRIPTION:Election Day! \n\nDon't forget to go out and vote!
X-ALT-DESC;FMTTYPE=text/html:Election Day!&nbsp\;<br />\nDon&#39\;t forget to go out and vote!&nbsp\;
LOCATION:Various locations
UID:e.9458.2666
SEQUENCE:3
DTSTAMP:20260423T124852Z
URL:http://fabava.memberzone.com/events/details/election-day-2666
END:VEVENT

END:VCALENDAR
