BEGIN:VCALENDAR
VERSION:2.0
PRODID:-//ChamberMaster//Event Calendar 2.0//EN
METHOD:PUBLISH
X-PUBLISHED-TTL:P3D
REFRESH-INTERVAL:P3D
CALSCALE:GREGORIAN
BEGIN:VEVENT
DTSTART:20190910T210000Z
DTEND:20190910T230000Z
X-MICROSOFT-CDO-ALLDAYEVENT:FALSE
SUMMARY:Developers Council Meeting 9/10/19
DESCRIPTION:Invitation only\, Developers Council Meeting for Developer and Builder members.\n\n \nJoin your host\, Jarrell Properties\, Inc.\, at the third quarterly roundtable style meeting of the Fredericksburg Area Developers Council.\n\n\n\nWhile this event is free\, a voluntary contribution to FACT-PAC is welcome.\n\n\n\nFACT-PAC is the Fredericksburg Area Construction Trust Political Action Committee. It has been organized to provide financial support to candidates for local and statewide government offices.\n\n \n\nTuesday\, September 10\, 2019\n\n5pm to 7pm \n\nFredericksburg Area Museum located at 907 Princess Anne Street\, Fredericksburg\, VA 22401. \n\n\n\nLight fare\, wine\, beer\, and soft drinks will be served. \n\n \n\nPlease RSVP using the links on this invitation by Friday\, September 6\, 2019.
X-ALT-DESC;FMTTYPE=text/html:<span style="font-size:14px\;">Invitation only\, Developers Council Meeting for Developer and Builder members.</span><br />\n&nbsp\;\n<p class="x_MsoNormal" style="margin: 0in 0in 0.0001pt\; font-size: 11pt\; font-family: Calibri\, sans-serif\; color: rgb(33\, 33\, 33)\;">Join your host\,&nbsp\;Jarrell Properties\, Inc.\, at the third quarterly roundtable style&nbsp\;meeting of&nbsp\;the Fredericksburg Area Developers Council.<br />\n<br />\nWhile this event is free\, a voluntary contribution to FACT-PAC is welcome.<br />\n<br />\n<span style="font-size:11px\;">FACT-PAC is the Fredericksburg Area Construction Trust Political Action Committee. It has been organized to provide financial support to candidates for local and statewide government offices.</span></p>\n\n<p class="x_MsoNormal" style="margin: 0in 0in 0.0001pt\; font-size: 11pt\; font-family: Calibri\, sans-serif\; color: rgb(33\, 33\, 33)\;">&nbsp\;</p>\n\n<p class="x_MsoNormal" data-event-added="1" style="margin: 0in 0in 0.0001pt\; font-size: 11pt\; font-family: Calibri\, sans-serif\; color: rgb(33\, 33\, 33)\;"><span class="lRd_CzwznU7wAHYLyaFV5" data-markjs="true" role="link" style="margin: 0px\; padding: 1px 0px\; border-width: 0px 0px 1px\; border-top-style: initial\; border-right-style: initial\; border-bottom-style: dashed\; border-left-style: initial\; border-top-color: initial\; border-right-color: initial\; border-bottom-color: var(--themePrimary)\; border-left-color: initial\; border-image: initial\; font: inherit\; vertical-align: baseline\; color: var(--themePrimary)\; cursor: pointer\;" tabindex="0">Tuesday\, September 10\, 2019</span><br />\n5pm to 7pm&nbsp\;<br />\nFredericksburg Area Museum located at&nbsp\;<span class="lRd_CzwznU7wAHYLyaFV5" data-markjs="true" role="link" style="margin: 0px\; padding: 1px 0px\; border-width: 0px 0px 1px\; border-top-style: initial\; border-right-style: initial\; border-bottom-style: dashed\; border-left-style: initial\; border-top-color: initial\; border-right-color: initial\; border-bottom-color: var(--themePrimary)\; border-left-color: initial\; border-image: initial\; font: inherit\; vertical-align: baseline\; color: var(--themePrimary)\; cursor: pointer\;" tabindex="0">907 Princess Anne Street\, Fredericksburg\, VA 22401</span>.&nbsp\;<br />\n<br />\nLight fare\, wine\, beer\, and soft drinks will be served.&nbsp\;</p>\n\n<p class="x_MsoNormal" style="margin: 0in 0in 0.0001pt\; font-size: 11pt\; font-family: Calibri\, sans-serif\; color: rgb(33\, 33\, 33)\;">&nbsp\;</p>\n\n<p class="x_MsoNormal" style="margin: 0in 0in 0.0001pt\; font-size: 11pt\; font-family: Calibri\, sans-serif\; color: rgb(33\, 33\, 33)\;">Please RSVP using the links on this invitation by Friday\, September 6\, 2019.</p>\n
LOCATION:Fredericksburg Area Museum 907 Princess Anne Street Fredericksburg\, VA 22401
UID:e.9458.2842
SEQUENCE:3
DTSTAMP:20260422T114148Z
URL:http://fabava.memberzone.com/events/details/developers-council-meeting-9-10-19-2842
END:VEVENT

END:VCALENDAR
