BEGIN:VCALENDAR
VERSION:2.0
PRODID:-//ChamberMaster//Event Calendar 2.0//EN
METHOD:PUBLISH
X-PUBLISHED-TTL:P3D
REFRESH-INTERVAL:P3D
CALSCALE:GREGORIAN
BEGIN:VEVENT
DTSTART:20210408T153000Z
DTEND:20210408T170000Z
X-MICROSOFT-CDO-ALLDAYEVENT:FALSE
SUMMARY:Developers Council - April 2021
DESCRIPTION:Developers Council Lunch at Foode\n\nThursday\, April 8\, 2021\n\n11:30 am - 1 pm\n\n\n\nJoin us for the April meeting of the FABA Developers Council at Foode (CLICK HERE FOR MENU)\n\n\n\nWe have a busy year of local and state elections coming up\, and we are working hard to protect the interests of the local building community.\n\n\n\nWhen you register\, please consider adding the voluntary contribution of $100 (or more) to your registration to help fund the Council operations fund ($50) and grow our FACT-PAC fund ($50). \n\n\n\nNote: The portion of your contribution allocated to FACT-PAC is not tax deductible. Of the $100 recommended contribution\, $50 will be allocated to FACT-PAC. Any contribution amount of $99 or greater must be reported as a political contribution to the public record. \n\n\n\nYOU MUST REGISTER IN ADVANCE FOR THIS EVENT.\n\nSPACE IS LIMITED DUE TO COVID LIMITATIONS.\n\n\n\nCLICK THE GREEN BUTTON TO REGISTER OR EMAIL c.urian@fabava.com
X-ALT-DESC;FMTTYPE=text/html:<span style="font-size:16px\;"><strong>Developers Council Lunch at Foode</strong></span><br />\nThursday\, April 8\, 2021<br />\n11:30 am - 1 pm<br />\n<br />\nJoin us for the April meeting of the FABA Developers Council at Foode (CLICK HERE FOR <a href="https://docs.google.com/document/d/e/2PACX-1vTKpvDbWFrv7G69Y6q6pYhsgBTF2Wt644LMdw5LuvXpmaXbC0smllHkFKQ-OXexaAn-C61F5NJruVso/pub" target="_blank">MENU</a>)<br />\n<br />\nWe have a busy year of local and state elections coming up\, and we are working hard to protect the interests of the local building community.<br />\n<br />\nWhen you register\, please consider adding the voluntary contribution of $100 (or more) to your registration to help fund the Council operations fund ($50) and grow our FACT-PAC fund ($50).&nbsp\;<br />\n<br />\n<em>Note: The portion of your contribution allocated to FACT-PAC is not tax deductible. Of the $100 recommended contribution\, $50 will be allocated to FACT-PAC. Any contribution amount of $99 or greater must be reported as a political contribution to the public record.&nbsp\;<br />\n<br />\nYOU MUST REGISTER IN ADVANCE FOR THIS EVENT.<br />\nSPACE IS LIMITED DUE TO COVID LIMITATIONS.<br />\n<br />\nCLICK THE GREEN BUTTON TO REGISTER OR EMAIL <a href="mailto:c.urian@fabava.com?subject=FEB21%20DEVELOPERS%20COUNCIL%20LUNCH%20RESERVATION">c.urian@fabava.com</a>&nbsp\;</em>
LOCATION:Foode 900 Princess Anne St Fredericksburg\, VA 22401
UID:e.9458.3293
SEQUENCE:3
DTSTAMP:20260421T004930Z
URL:http://fabava.memberzone.com/events/details/developers-council-april-2021-3293
END:VEVENT

END:VCALENDAR
