BEGIN:VCALENDAR
VERSION:2.0
PRODID:-//ChamberMaster//Event Calendar 2.0//EN
METHOD:PUBLISH
X-PUBLISHED-TTL:P3D
REFRESH-INTERVAL:P3D
CALSCALE:GREGORIAN
BEGIN:VEVENT
DTSTART:20200624T163000Z
DTEND:20200624T180000Z
X-MICROSOFT-CDO-ALLDAYEVENT:FALSE
SUMMARY:Developers Council 2020 - Summer Meeting
DESCRIPTION:Developers Council Meeting - Summer 2020
X-ALT-DESC;FMTTYPE=text/html:Developers Council Meeting - Summer 2020
LOCATION:FAAR 2050 Gordon W. Shelton Blvd. Fredericksburg\, Virginia 22401
UID:e.9458.3112
SEQUENCE:3
DTSTAMP:20260421T175714Z
URL:http://fabava.memberzone.com/events/details/developers-council-2020-summer-meeting-3112
END:VEVENT

END:VCALENDAR
