BEGIN:VCALENDAR
VERSION:2.0
PRODID:-//ChamberMaster//Event Calendar 2.0//EN
METHOD:PUBLISH
X-PUBLISHED-TTL:P3D
REFRESH-INTERVAL:P3D
CALSCALE:GREGORIAN
BEGIN:VEVENT
DTSTART:20200924T120000Z
DTEND:20200924T133000Z
X-MICROSOFT-CDO-ALLDAYEVENT:FALSE
SUMMARY:Developers Council 2020 - Fall Meeting
DESCRIPTION:Developers Council Fall 2020 Breakfast Meeting \n\nThursday\, September 24\, 2020\n\n\n\nFork N' Biscuit\n\n715 Caroline St\n\nFredericksburg\, VA 22401\n\n\n\nSign up today. Registration limited.\n\n\n\n8:00 am - 9:30 am\n\n\n\nTo view the menu in advance\, please visit: http://www.forknbiscuit.com/pdf/ForknBiscuitFullMenu.pdf
X-ALT-DESC;FMTTYPE=text/html:Developers Council Fall 2020 Breakfast Meeting&nbsp\;<br />\nThursday\, September 24\, 2020<br />\n<br />\nFork N&#39\; Biscuit<br />\n715 Caroline St<br />\nFredericksburg\, VA 22401<br />\n<br />\nSign up today. Registration limited.<br />\n<br />\n8:00 am - 9:30 am<br />\n<br />\nTo view the menu in advance\, please visit:&nbsp\;<a href="http://8:00 am - 9:30 am  To view the menu in advance\, please visit: http://www.forknbiscuit.com/pdf/ForknBiscuitFullMenu.pdf">http://www.forknbiscuit.com/pdf/ForknBiscuitFullMenu.pdf</a><br />\n<br />\n&nbsp\;
LOCATION:Fork N' Biscuit 715 Caroline St Fredericksburg\, VA 22401
UID:e.9458.3151
SEQUENCE:3
DTSTAMP:20260421T125331Z
URL:http://fabava.memberzone.com/events/details/developers-council-2020-fall-meeting-3151
END:VEVENT

END:VCALENDAR
