BEGIN:VCALENDAR
VERSION:2.0
PRODID:-//ChamberMaster//Event Calendar 2.0//EN
METHOD:PUBLISH
X-PUBLISHED-TTL:P3D
REFRESH-INTERVAL:P3D
CALSCALE:GREGORIAN
BEGIN:VEVENT
DTSTART:20200410T200000Z
DTEND:20200410T210000Z
X-MICROSOFT-CDO-ALLDAYEVENT:FALSE
SUMMARY:DC Small Business Community TeleTownHall
DESCRIPTION:DC Small Business Community TeleTownHall\n\nhttps://www.eventbrite.com/e/small-business-community-teletownhall-tickets-102184578826
X-ALT-DESC;FMTTYPE=text/html:DC Small Business Community TeleTownHall<br />\nhttps://www.eventbrite.com/e/small-business-community-teletownhall-tickets-102184578826
LOCATION:
UID:e.9458.3080
SEQUENCE:3
DTSTAMP:20260421T214713Z
URL:http://fabava.memberzone.com/events/details/dc-small-business-community-teletownhall-3080
END:VEVENT

END:VCALENDAR
