BEGIN:VCALENDAR
VERSION:2.0
PRODID:-//ChamberMaster//Event Calendar 2.0//EN
METHOD:PUBLISH
X-PUBLISHED-TTL:P3D
REFRESH-INTERVAL:P3D
CALSCALE:GREGORIAN
BEGIN:VEVENT
DTSTART:20220621T130000Z
DTEND:20220621T140000Z
X-MICROSOFT-CDO-ALLDAYEVENT:FALSE
SUMMARY:Culpeper County Quarterly Meeting
DESCRIPTION:Take this opportunity to meet with planning and building officials in Culpeper County and ask questions and get updates about issues that could impact the building industry\n\n\n\nFABA is inviting you to a scheduled Zoom meeting.\n\n\n\nTopic: FABA & Culpeper County Zoom Meeting\n\nTime: June 21 2022 09:00 AM Eastern Time\n\n\n\nFuture Meeting Dates:\n\n        Jun 21\, 2022 09:00 AM\n\n        Sep 8\, 2022 09:00 AM\n\n        Dec 8\, 2022 09:00 AM\n\n\n\nPlease download and import the following iCalendar (.ics) files to your calendar system.\n\nMonthly: https://us02web.zoom.us/meeting/tZUpceytrT4sGNOf5Wb4_NfWSEmgIJRrYXIF/ics?icsToken=98tyKuGpqj0vH9eQthuARpwcBo_oZ-_ztiVdjY1ymkrSAXRsTAXBBcdPNZtVIsrp\n\n\n\nJoin Zoom Meeting\n\nhttps://us02web.zoom.us/j/81465535627?pwd=cEQyY3RSMmN0UE5kY1RmbWpLN1BaQT09\n\n\n\nMeeting ID: 814 6553 5627\n\nPasscode: 505250\n\nOne tap mobile\n\n+16465588656\,\,81465535627#\,\,\,\,*505250# US (New York)\n\n+13017158592\,\,81465535627#\,\,\,\,*505250# US (Washington DC)\n\n\n\nDial by your location\n\n        +1 646 558 8656 US (New York)\n\n        +1 301 715 8592 US (Washington DC)\n\n        +1 312 626 6799 US (Chicago)\n\n        +1 669 900 9128 US (San Jose)\n\n        +1 253 215 8782 US (Tacoma)\n\n        +1 346 248 7799 US (Houston)\n\nMeeting ID: 814 6553 5627\n\nPasscode: 505250\n\nFind your local number: https://us02web.zoom.us/u/kdqYMfan3R
X-ALT-DESC;FMTTYPE=text/html:<span style="color: rgb(102\, 102\, 102)\; font-family: &quot\;Open Sans&quot\;\, Arial\, sans-serif\; font-size: 17px\;">Take this opportunity to meet with planning and building officials in Culpeper County and ask questions and get updates about issues that could impact the building industry</span><br />\n<br />\nFABA is inviting you to a scheduled Zoom meeting.<br />\n<br />\n<strong>Topic: FABA &amp\; Culpeper County Zoom Meeting<br />\nTime: June 21 2022 09:00 AM Eastern Time</strong><br />\n<br />\nFuture Meeting Dates:<br />\n&nbsp\; &nbsp\; &nbsp\; &nbsp\; Jun 21\, 2022 09:00 AM<br />\n&nbsp\; &nbsp\; &nbsp\; &nbsp\; Sep 8\, 2022 09:00 AM<br />\n&nbsp\; &nbsp\; &nbsp\; &nbsp\; Dec 8\, 2022 09:00 AM<br />\n<br />\nPlease download and import the following iCalendar (.ics) files to your calendar system.<br />\nMonthly: https://us02web.zoom.us/meeting/tZUpceytrT4sGNOf5Wb4_NfWSEmgIJRrYXIF/ics?icsToken=98tyKuGpqj0vH9eQthuARpwcBo_oZ-_ztiVdjY1ymkrSAXRsTAXBBcdPNZtVIsrp<br />\n<br />\nJoin Zoom Meeting<br />\nhttps://us02web.zoom.us/j/81465535627?pwd=cEQyY3RSMmN0UE5kY1RmbWpLN1BaQT09<br />\n<br />\nMeeting ID: 814 6553 5627<br />\nPasscode: 505250<br />\nOne tap mobile<br />\n+16465588656\,\,81465535627#\,\,\,\,*505250# US (New York)<br />\n+13017158592\,\,81465535627#\,\,\,\,*505250# US (Washington DC)<br />\n<br />\nDial by your location<br />\n&nbsp\; &nbsp\; &nbsp\; &nbsp\; +1 646 558 8656 US (New York)<br />\n&nbsp\; &nbsp\; &nbsp\; &nbsp\; +1 301 715 8592 US (Washington DC)<br />\n&nbsp\; &nbsp\; &nbsp\; &nbsp\; +1 312 626 6799 US (Chicago)<br />\n&nbsp\; &nbsp\; &nbsp\; &nbsp\; +1 669 900 9128 US (San Jose)<br />\n&nbsp\; &nbsp\; &nbsp\; &nbsp\; +1 253 215 8782 US (Tacoma)<br />\n&nbsp\; &nbsp\; &nbsp\; &nbsp\; +1 346 248 7799 US (Houston)<br />\nMeeting ID: 814 6553 5627<br />\nPasscode: 505250<br />\nFind your local number: https://us02web.zoom.us/u/kdqYMfan3R<br />\n&nbsp\;
LOCATION:FABA is inviting you to a scheduled Zoom meeting. Topic: FABA & Culpeper County Zoom Meeting Future Meeting Dates: Jun 21\, 2022 09:00 AM Sep 8\, 2022 09:00 AM Dec 8\, 2022 09:00 AM Join Zoom Meeting https://us02web.zoom.us/j/81465535627?pwd=cEQyY3RSMmN0UE5kY1RmbWpLN1BaQT09 Meeting ID: 814 6553 5627 Passcode: 505250 One tap mobile +16465588656\,\,81465535627#\,\,\,\,*505250# US (New York) +13017158592\,\,81465535627#\,\,\,\,*505250# US (Washington DC) Dial by your location +1 646 558 8656 US (New York) +1 301 715 8592 US (Washington DC) +1 312 626 6799 US (Chicago) +1 669 900 9128 US (San Jose) +1 253 215 8782 US (Tacoma) +1 346 248 7799 US (Houston) Meeting ID: 814 6553 5627 Passcode: 505250 Find your local number: https://us02web.zoom.us/u/kdqYMfan3R
UID:e.9458.3361
SEQUENCE:3
DTSTAMP:20260419T194809Z
URL:http://fabava.memberzone.com/events/details/culpeper-county-quarterly-meeting-06-09-2022-3361
END:VEVENT

END:VCALENDAR
