BEGIN:VCALENDAR
VERSION:2.0
PRODID:-//ChamberMaster//Event Calendar 2.0//EN
METHOD:PUBLISH
X-PUBLISHED-TTL:P3D
REFRESH-INTERVAL:P3D
CALSCALE:GREGORIAN
BEGIN:VEVENT
DTSTART;VALUE=DATE:20181008
DTEND;VALUE=DATE:20181009
TRANSP:TRANSPARENT
X-MICROSOFT-CDO-ALLDAYEVENT:TRUE
SUMMARY:Columbus Day - FABA CLOSED
DESCRIPTION:FABA will be closed in observance of Columbus Day.
X-ALT-DESC;FMTTYPE=text/html:FABA will be closed in observance of Columbus Day.&nbsp\;
LOCATION:
UID:e.9458.2600
SEQUENCE:3
DTSTAMP:20260423T160304Z
URL:http://fabava.memberzone.com/events/details/columbus-day-faba-closed-2600
END:VEVENT

END:VCALENDAR
