BEGIN:VCALENDAR
VERSION:2.0
PRODID:-//ChamberMaster//Event Calendar 2.0//EN
METHOD:PUBLISH
X-PUBLISHED-TTL:P3D
REFRESH-INTERVAL:P3D
CALSCALE:GREGORIAN
BEGIN:VEVENT
DTSTART:20220624T130000Z
DTEND:20220624T150000Z
X-MICROSOFT-CDO-ALLDAYEVENT:FALSE
SUMMARY:Codes & Coffee
DESCRIPTION:Join us for a briefing on the 2018 update to the Uniform Statewide Building Code at a special FREE session with FABA and local building officials. Presented by Florin Moldovan\, MCP - code and Regulation Specialist of the Department of Housing and Community Development.
X-ALT-DESC;FMTTYPE=text/html:Join us for a briefing on the 2018 update to the Uniform Statewide Building Code at a special FREE session with FABA and local building officials. Presented by Florin Moldovan\, MCP - code and Regulation Specialist of the Department of Housing and Community Development.&nbsp\;
LOCATION:Salem Fields Community Church Bistro 11120 Gordon Rd. Fredericksburg\, VA 22407
UID:e.9458.3646
SEQUENCE:3
DTSTAMP:20260419T213509Z
URL:http://fabava.memberzone.com/events/details/codes-coffee-3646
END:VEVENT

END:VCALENDAR
