BEGIN:VCALENDAR
VERSION:2.0
PRODID:-//ChamberMaster//Event Calendar 2.0//EN
METHOD:PUBLISH
X-PUBLISHED-TTL:P3D
REFRESH-INTERVAL:P3D
CALSCALE:GREGORIAN
BEGIN:VEVENT
DTSTART:20190913T150000Z
DTEND:20190913T210000Z
X-MICROSOFT-CDO-ALLDAYEVENT:FALSE
SUMMARY:Clay Shoot with PVBIA
DESCRIPTION:2019 PVBIA Clay Shoot is OPEN for registration! \n\n \n\nJoin us on September 13th\n\n 11:00 Registration\n\n11:30 Lunch\n\n12:30 Clay Shoot\n\n4:15 Awards\n\n \n\nDon't miss out on a day a FUN and competition at Shady Grove Sporting Clays! Lunch is provided. \n\n \n\n15 stations\n\nBring Your Own Shotgun\n\nTarget Loads #7 1/2 or 8\n\nNO ALCOHOL\n\n \n\nREGISTER HERE! \n\n \n\nSponsorships are still available! Please contact PVBIA EO Anna Mealey by clicking here if you would like the opportunity to partner together for this awesome event!
X-ALT-DESC;FMTTYPE=text/html:2019 PVBIA Clay Shoot is OPEN for registration!&nbsp\;<br />\n&nbsp\;<br />\nJoin us on September 13th<br />\n&nbsp\;11:00 Registration<br />\n11:30 Lunch<br />\n12:30 Clay Shoot<br />\n4:15 Awards<br />\n&nbsp\;<br />\nDon&#39\;t miss out on a day a FUN and competition at Shady Grove Sporting Clays! Lunch is provided.&nbsp\;<br />\n&nbsp\;<br />\n15 stations<br />\nBring Your Own Shotgun<br />\nTarget Loads #7 1/2 or 8<br />\nNO ALCOHOL<br />\n&nbsp\;<br />\n<a href="https://docs.google.com/forms/d/e/1FAIpQLSf8yVMgnlL_Gg1xbtBkeUKgCv8nJ28FJKMpIZiIq5kMshqRmA/viewform?usp=pp_url">REGISTER HERE</a>!&nbsp\;<br />\n&nbsp\;<br />\nSponsorships are still available! Please contact PVBIA EO Anna Mealey by <a href="http://PVBIA.EO@gmail.com">clicking here</a> if you would like the opportunity to partner together for this awesome event!&nbsp\;
LOCATION:Shady Grove Sporting Clays 11781 Lucky Hill Road Remington\, Virginia 22734
UID:e.9458.2852
SEQUENCE:3
DTSTAMP:20260422T114426Z
URL:http://fabava.memberzone.com/events/details/clay-shoot-with-pvbia-2852
END:VEVENT

END:VCALENDAR
