BEGIN:VCALENDAR
VERSION:2.0
PRODID:-//ChamberMaster//Event Calendar 2.0//EN
METHOD:PUBLISH
X-PUBLISHED-TTL:P3D
REFRESH-INTERVAL:P3D
CALSCALE:GREGORIAN
BEGIN:VEVENT
DTSTART:20200928T150000Z
DTEND:20200928T160000Z
X-MICROSOFT-CDO-ALLDAYEVENT:FALSE
SUMMARY:Clay Shoot Committee
DESCRIPTION:If you are interested in joining the Clay Shoot Committee please join us on Monday\, September 28th at 11AM.\n\n \n\nTopic: Clay Shoot\n\nTime: Sep 28\, 2020 11:00 AM Eastern Time (US and Canada)\n\n \n\nJoin Zoom Meeting\n\nhttps://us02web.zoom.us/j/87875421335\n\n \n\nMeeting ID: 878 7542 1335\n\nOne tap mobile\n\n+13126266799
X-ALT-DESC;FMTTYPE=text/html:<p class="x_MsoNormal" style="margin: 0in 0in 0.0001pt\; font-size: 11pt\; font-family: Calibri\, sans-serif\; color: rgb(32\, 31\, 30)\;"><span style="font-size:18px\;"><span style="font-size:20px\;"><b style="color: rgb(32\, 31\, 30)\; font-family: Calibri\, sans-serif\; font-size: 18px\;"><u><span style="margin: 0px\; padding: 0px\; border: 0px\; font-style: inherit\; font-variant: inherit\; font-weight: inherit\; font-stretch: inherit\; line-height: inherit\; font-family: inherit\; vertical-align: baseline\; color: red\;">If you are interested in joining the Clay Shoot Committee please join us on Monday\,&nbsp\;September 28th&nbsp\;at 11AM.</span></u></b></span><br />\n<b><span style="margin: 0px\; padding: 0px\; border: 0px\; font-style: inherit\; font-variant: inherit\; font-weight: inherit\; font-stretch: inherit\; line-height: inherit\; font-family: inherit\; vertical-align: baseline\; color: red\;">&nbsp\;</span></b></span></p>\n\n<p class="x_MsoNormal" style="margin: 0in 0in 0.0001pt\; font-size: 11pt\; font-family: Calibri\, sans-serif\; color: rgb(32\, 31\, 30)\;"><span style="font-size:18px\;">Topic: Clay Shoot</span></p>\n\n<p class="x_MsoNormal" style="margin: 0in 0in 0.0001pt\; font-size: 11pt\; font-family: Calibri\, sans-serif\; color: rgb(32\, 31\, 30)\;"><span style="font-size:18px\;">Time: Sep 28\, 2020 11:00 AM Eastern Time (US and Canada)</span></p>\n\n<p class="x_MsoNormal" style="margin: 0in 0in 0.0001pt\; font-size: 11pt\; font-family: Calibri\, sans-serif\; color: rgb(32\, 31\, 30)\;">&nbsp\;</p>\n\n<p class="x_MsoNormal" style="margin: 0in 0in 0.0001pt\; font-size: 11pt\; font-family: Calibri\, sans-serif\; color: rgb(32\, 31\, 30)\;"><span style="font-size:18px\;">Join Zoom Meeting</span></p>\n\n<p class="x_MsoNormal" style="margin: 0in 0in 0.0001pt\; font-size: 11pt\; font-family: Calibri\, sans-serif\; color: rgb(32\, 31\, 30)\;"><span style="font-size:18px\;">https://us02web.zoom.us/j/87875421335</span></p>\n\n<p class="x_MsoNormal" style="margin: 0in 0in 0.0001pt\; font-size: 11pt\; font-family: Calibri\, sans-serif\; color: rgb(32\, 31\, 30)\;">&nbsp\;</p>\n\n<p class="x_MsoNormal" style="margin: 0in 0in 0.0001pt\; font-size: 11pt\; font-family: Calibri\, sans-serif\; color: rgb(32\, 31\, 30)\;"><span style="font-size:18px\;">Meeting ID: 878 7542 1335</span></p>\n\n<p class="x_MsoNormal" style="margin: 0in 0in 0.0001pt\; font-size: 11pt\; font-family: Calibri\, sans-serif\; color: rgb(32\, 31\, 30)\;"><span style="font-size:18px\;">One tap mobile</span></p>\n\n<p class="x_MsoNormal" style="margin: 0in 0in 0.0001pt\; font-size: 11pt\; font-family: Calibri\, sans-serif\; color: rgb(32\, 31\, 30)\;"><span style="font-size:18px\;">+13126266799</span></p>\n
LOCATION:
UID:e.9458.3154
SEQUENCE:3
DTSTAMP:20260421T143037Z
URL:http://fabava.memberzone.com/events/details/clay-shoot-committee-3154
END:VEVENT

END:VCALENDAR
