BEGIN:VCALENDAR
VERSION:2.0
PRODID:-//ChamberMaster//Event Calendar 2.0//EN
METHOD:PUBLISH
X-PUBLISHED-TTL:P3D
REFRESH-INTERVAL:P3D
CALSCALE:GREGORIAN
BEGIN:VEVENT
DTSTART:20191017T130000Z
DTEND:20191017T140000Z
X-MICROSOFT-CDO-ALLDAYEVENT:FALSE
SUMMARY:Childress Chats- Is Your Website WORKING for you? Building the Best Digital Presence - Series 1: Session 2
DESCRIPTION:Building the Best Websites and Digital Presence\n\nJoin us at our next Childress Chat! You will gain insight from a certified Google Partner about the importance of having a professionally developed strategy that drives traffic to your website\, makes a good first impression\, and converts your visitors into buyers.\n\nLearn how to optimize your online presence through SEO\, digital ads\, and video advertising.
X-ALT-DESC;FMTTYPE=text/html:<h1 style="text-align: justify\;">Building the Best Websites and Digital Presence</h1>\n\n<p style="text-align:justify">Join us at our next Childress Chat! You will gain insight from a certified Google Partner about the importance of having a professionally developed strategy that drives traffic to your website\, makes a good first impression\, and converts your visitors into buyers.</p>\n\n<p style="text-align:justify">Learn how to optimize your online presence through SEO\, digital ads\, and video advertising.</p>\n
LOCATION:Courtyard by Marriott\, Downtown Fredericksburg (Historic District) 620 Caroline Street Fredericksburg\, Virginia 22401 Parking is available for up to 3 hours at no cost in the City's parking deck located 1 block east on Wolfe Street. Take your ticket from entry with you\, and use it to check out at the parking deck machine before returning to your car. If you stay in the area longer than 3 hours\, please note that the parking deck does not accept cash for payment\, only credit cards.
UID:e.9458.2954
SEQUENCE:3
DTSTAMP:20260422T100623Z
URL:http://fabava.memberzone.com/events/details/childress-chats-is-your-website-working-for-you-building-the-best-digital-presence-series-1-session-2-2954
END:VEVENT

END:VCALENDAR
