BEGIN:VCALENDAR
VERSION:2.0
PRODID:-//ChamberMaster//Event Calendar 2.0//EN
METHOD:PUBLISH
X-PUBLISHED-TTL:P3D
REFRESH-INTERVAL:P3D
CALSCALE:GREGORIAN
BEGIN:VEVENT
DTSTART:20180913T210000Z
DTEND:20180913T230000Z
X-MICROSOFT-CDO-ALLDAYEVENT:FALSE
SUMMARY:CANCELLED -Hard Hat Networking
DESCRIPTION:The September Hard Hat has been CANCELLED due to inclement weather and our host location closing until Monday. We apologize for any inconvenience this may cause and we appreciate your understanding as we make decisions that are in the interest of safety. \n\n\n\nMark your calendars and plan to join us for next month's Hard Hat at The Fredericksburg Country Club on October 11th!
X-ALT-DESC;FMTTYPE=text/html:<span style="font-family:calibri\,sans-serif\;"><span style="font-size:11.5pt\;">The September <strong>Hard Hat</strong> has been <span style="color:red\;">CANCELLED </span>due to inclement weather and our host location closing until Monday. We apologize for any inconvenience this may cause and we appreciate your understanding as we make decisions that are in the interest of safety.&nbsp\;</span></span><br />\n<br />\nMark your calendars and plan to join us for next month&#39\;s Hard Hat at The Fredericksburg Country Club on October 11th!&nbsp\;
LOCATION:Germanna Fredericksburg Center for Advanced Technology 1325 Central Park Blvd\, Fredericksburg\, VA 22401
UID:e.9458.2667
SEQUENCE:3
DTSTAMP:20260423T190947Z
URL:http://fabava.memberzone.com/events/details/cancelled-hard-hat-networking-2667
END:VEVENT

END:VCALENDAR
