BEGIN:VCALENDAR
VERSION:2.0
PRODID:-//ChamberMaster//Event Calendar 2.0//EN
METHOD:PUBLISH
X-PUBLISHED-TTL:P3D
REFRESH-INTERVAL:P3D
CALSCALE:GREGORIAN
BEGIN:VEVENT
DTSTART:20220407T180000Z
DTEND:20220407T200000Z
X-MICROSOFT-CDO-ALLDAYEVENT:FALSE
SUMMARY:C&F Mortgage Open House
DESCRIPTION:Join us for an open house at our new location!
X-ALT-DESC;FMTTYPE=text/html:Join us for an open house at our new location!
LOCATION:1320 Central Park Blvd. #201 Fredericksburg\, VA 22401
UID:e.9458.3635
SEQUENCE:3
DTSTAMP:20260419T233503Z
URL:http://fabava.memberzone.com/events/details/c-f-mortgage-open-house-3635
END:VEVENT

END:VCALENDAR
