BEGIN:VCALENDAR
VERSION:2.0
PRODID:-//ChamberMaster//Event Calendar 2.0//EN
METHOD:PUBLISH
X-PUBLISHED-TTL:P3D
REFRESH-INTERVAL:P3D
CALSCALE:GREGORIAN
BEGIN:VEVENT
DTSTART:20200114T163000Z
DTEND:20200114T180000Z
X-MICROSOFT-CDO-ALLDAYEVENT:FALSE
SUMMARY:Building a Winning Business Strategy and Plan for 2020
DESCRIPTION:Building a Winning Business Strategy and Plan For 2020\n\n \n\nPresented by Mike Williams\, The Growth Coach of Northern Virginia.  \n\n \n\nSet Your Business Up For Success! \n\n \n\nThis workshop discusses the key steps to successful annual business planning. Mike will review the Vision and Mission of your business\, as key components\, as well as discuss the importance of being strategic in your approach to planning for 2020. You will learn how to identify and develop winning goals and objectives for your business\, and build a winning strategic plan for 2020. This is a great business building session for any organization! It is sponsored by FABA and lunch will be served! If you plan on attending\, please RSVP by January 13th!
X-ALT-DESC;FMTTYPE=text/html:<strong>Building a Winning Business Strategy and Plan For 2020</strong><br />\n&nbsp\;<br />\n<em><span style="color:#333333\;"><span style="font-size:10.0pt\;">Presented by</span></span></em><span style="color:#333333\;"> Mike Williams\, The Growth Coach of Northern Virginia. &nbsp\;</span><br />\n&nbsp\;<br />\n<span style="color:#333333\;">Set Your Business Up For Success! </span><br />\n&nbsp\;<br />\n<span style="color:#333333\;">This workshop discusses the key steps to successful annual business planning. Mike will review the Vision and Mission of your business\, as key components\, as well as discuss the importance of being strategic in your approach to planning for 2020. You will learn how to identify and develop winning goals and objectives for your business\, and build a winning strategic plan for 2020. This is a great business building session for any organization! It is sponsored by FABA and lunch will be served! If you plan on attending\, please RSVP by January 13th!</span>
LOCATION:FABA Boardroom 3006 Lafayette Blvd
UID:e.9458.2956
SEQUENCE:3
DTSTAMP:20260422T083550Z
URL:http://fabava.memberzone.com/events/details/building-a-winning-business-strategy-and-plan-for-2020-2956
END:VEVENT

END:VCALENDAR
