BEGIN:VCALENDAR
VERSION:2.0
PRODID:-//ChamberMaster//Event Calendar 2.0//EN
METHOD:PUBLISH
X-PUBLISHED-TTL:P3D
REFRESH-INTERVAL:P3D
CALSCALE:GREGORIAN
BEGIN:VEVENT
DTSTART:20191109T220000Z
DTEND:20191110T060000Z
X-MICROSOFT-CDO-ALLDAYEVENT:FALSE
SUMMARY:Board the Bus to National Harbor (FAB Foundation)
DESCRIPTION:Board the Bus to National Harbor\n\nFAB Foundation Fundraiser - 100% of proceeds go to student scholarships for the trades!\n\n\n\nEnjoy a stress free ride on a luxury motor coach round trip from Fredericksburg to National Harbor. Choose from 2 drop off locations - MGM Casino or Bobby McGee's Dueling Piano Bar.\n\n\n\nYour ticket includes appetizers at Cancun Margarita before departure and round trip transportation. Small coolers are allowed on the bus.\n\n\n\nAppetizers sponsored by Ray's Siding Co.
X-ALT-DESC;FMTTYPE=text/html:Board the Bus to National Harbor<br />\nFAB Foundation Fundraiser - 100% of proceeds go to student scholarships for the trades!<br />\n<br />\nEnjoy a stress free ride on a luxury motor coach round trip from Fredericksburg to National Harbor. Choose from 2 drop off locations - MGM Casino or Bobby McGee&#39\;s Dueling Piano Bar.<br />\n<br />\nYour ticket includes appetizers at Cancun Margarita before departure and round trip transportation. Small coolers are allowed on the bus.<br />\n<br />\nAppetizers sponsored by Ray&#39\;s Siding Co.
LOCATION:Pick-Up and Drop-off at Cancun Margarita Bar & Grill (Spotsylvania Mall) Round Trip Bus Transportation from Fredericksburg to National Harbor: - 2 drop off locations: MGM Casino or Bobby McGee's Dueling Piano Bar
UID:e.9458.2962
SEQUENCE:3
DTSTAMP:20260422T100249Z
URL:http://fabava.memberzone.com/events/details/board-the-bus-to-national-harbor-fab-foundation-2962
END:VEVENT

END:VCALENDAR
