BEGIN:VCALENDAR
VERSION:2.0
PRODID:-//ChamberMaster//Event Calendar 2.0//EN
METHOD:PUBLISH
X-PUBLISHED-TTL:P3D
REFRESH-INTERVAL:P3D
CALSCALE:GREGORIAN
BEGIN:VEVENT
DTSTART:20210714T130000Z
DTEND:20210714T140000Z
X-MICROSOFT-CDO-ALLDAYEVENT:FALSE
SUMMARY:Associates Advisory Council Meeting
DESCRIPTION:All members and their employees who would like to have input on Fredericksburg Area Builders Associations' networking\, advocacy\, and education are welcome. The committee plans and organizes several social events\, field trips\, and meetings throughout the year. To put your name on the email list and/or for more information\, please contact the FABA office at 540-898-2730.
X-ALT-DESC;FMTTYPE=text/html:All members and their employees who would like to have input on Fredericksburg Area Builders Associations&#39\; networking\, advocacy\, and education are welcome. The committee plans and organizes several social events\, field trips\, and meetings throughout the year. To put your name on the email list and/or for more information\, please contact the FABA office at 540-898-2730.
LOCATION:Fredericksburg Area Builders Association 3006 Lafayette Boulevard Fredericksburg\, VA 22408
UID:e.9458.3181
SEQUENCE:3
DTSTAMP:20260420T194356Z
URL:http://fabava.memberzone.com/events/details/associates-advisory-council-meeting-07-14-2021-3181
END:VEVENT

END:VCALENDAR
