BEGIN:VCALENDAR
VERSION:2.0
PRODID:-//ChamberMaster//Event Calendar 2.0//EN
METHOD:PUBLISH
X-PUBLISHED-TTL:P3D
REFRESH-INTERVAL:P3D
CALSCALE:GREGORIAN
BEGIN:VEVENT
DTSTART:20190518T113000Z
DTEND:20190518T210000Z
X-MICROSOFT-CDO-ALLDAYEVENT:FALSE
SUMMARY:516 Project - Day of Service
DESCRIPTION:May 18\, 2019- Join us to share the love of Jesus as we serve our community!\n\n \n\nRegister at- http://516project.org/volunteer-page/\n\n \n\nSchedule of the Day:\n\n7:30am - 8:00am Sign in and Breakfast\n\n8:00am - 8:30am Worship\, Devotion and Announcements\n\n8:30am - Teams dismissed to jobs\n\n(End time is flexible. Some projects will take longer than others.)\n\n \n\nYou'll be able to pick the type of job you want to serve on when you arrive Saturday morning. There will be jobs of all skill levels. All skill levels are welcome and encouraged to join us. We currently have several carpentry jobs (deck railing/steps repair\, floor joist repair etc) Roof repair\, plumbing repair\, yard work\, etc.  We will also have a prayer and hospitality team visiting with homeowners. So there is a way for everyone to serve.\n\n \n\nPlease register on our website so we now how many people to expect and have enough food / coffee etc. for the morning.\n\n \n\nIn His service\,\n\nJames Roberson\n\nPresident\n\n516 Project\, Inc.\n\nwww.516project.org\n\n \n\n"Let your light so shine before men\, that they may see your good works and glorify your Father in heaven." -Matthew 5:16
X-ALT-DESC;FMTTYPE=text/html:May 18\, 2019- Join us to share the love of Jesus as we serve our community!<br />\n&nbsp\;<br />\nRegister at- <a href="https://urldefense.proofpoint.com/v2/url?u=http-3A__516project.org_volunteer-2Dpage_&amp\;d=DwMFAg&amp\;c=nXMY4vNZ90iTcAaGn9fvHg&amp\;r=6BURV8TiTOPLTieetlsaqeGMYftte9aYKl25P8yVtiM&amp\;m=F1g4yx2sJYjNPfS5c7otFptzQz2SnXegz0GCfQ93TUI&amp\;s=66JczGjHjB6VcEpACaUv6UAcqMyTGCZGb3aQi5R1yLY&amp\;e=">http://516project.org/volunteer-page/</a><br />\n&nbsp\;<br />\nSchedule of the Day:<br />\n7:30am - 8:00am Sign in and Breakfast<br />\n8:00am - 8:30am Worship\, Devotion and Announcements<br />\n8:30am - Teams dismissed to jobs<br />\n(End time is flexible. Some projects will take longer than others.)<br />\n&nbsp\;<br />\nYou&#39\;ll be able to pick the type of job you want to serve on when you arrive Saturday morning. There will be jobs of all skill levels. All skill levels are welcome and encouraged to join us. We currently have several carpentry jobs (deck railing/steps repair\, floor joist repair etc) Roof repair\, plumbing repair\, yard work\, etc. &nbsp\;We will also have a prayer and hospitality team visiting with homeowners. So there is a way for everyone to serve.<br />\n&nbsp\;<br />\nPlease register on our website so we now how many people to expect and have enough food / coffee etc. for the morning.<br />\n&nbsp\;<br />\nIn His service\,<br />\nJames Roberson<br />\nPresident<br />\n516 Project\, Inc.<br />\n<a href="https://urldefense.proofpoint.com/v2/url?u=http-3A__www.516project.org&amp\;d=DwMFAg&amp\;c=nXMY4vNZ90iTcAaGn9fvHg&amp\;r=6BURV8TiTOPLTieetlsaqeGMYftte9aYKl25P8yVtiM&amp\;m=F1g4yx2sJYjNPfS5c7otFptzQz2SnXegz0GCfQ93TUI&amp\;s=ti1JFNOg-PXTg95_1vFW7d_tBpMNAMzzQlTcSstu2sk&amp\;e=">www.516project.org</a><br />\n&nbsp\;<br />\n&ldquo\;Let your light so shine before men\, that they may see your good works and glorify your Father in heaven.&rdquo\; -Matthew 5:16
LOCATION:
UID:e.9458.2814
SEQUENCE:3
DTSTAMP:20260423T013613Z
URL:http://fabava.memberzone.com/events/details/516-project-day-of-service-2814
END:VEVENT

END:VCALENDAR
