BEGIN:VCALENDAR
VERSION:2.0
PRODID:-//ChamberMaster//Event Calendar 2.0//EN
METHOD:PUBLISH
X-PUBLISHED-TTL:P3D
REFRESH-INTERVAL:P3D
CALSCALE:GREGORIAN
BEGIN:VEVENT
DTSTART:20220517T210000Z
DTEND:20220517T230000Z
X-MICROSOFT-CDO-ALLDAYEVENT:FALSE
SUMMARY:2022 Legislative Review
DESCRIPTION:Join FAAR\, FABA\, The Chamber and the Fredericksburg Regional Alliance for an evening of mixing\, mingling and great conversation with elected officials. Learn about the most recent General Assembly session. Tickets are just $10.00 and include a drink ticket and a ballpark feast of hot dogs\, hamburgers\, and sides!\n\nCapacity is limited so get your tickets today!\n\n \n\nThank you to our sponsors!\n\nTitle Professionals\, Union Home Mortgage and Contractors Websites Plus
X-ALT-DESC;FMTTYPE=text/html:<p style="margin: 0px\; padding: 0px\; color: rgb(111\, 114\, 135)\; font-size: 16px\; line-height: 1.5rem\; font-family: &quot\;Neue Plak&quot\;\, -apple-system\, BlinkMacSystemFont\, Roboto\, &quot\;Helvetica Neue&quot\;\, Helvetica\, Tahoma\, Arial\, sans-serif\; letter-spacing: 0.5px\;">Join FAAR\, FABA\, The Chamber and the Fredericksburg Regional Alliance for an evening of mixing\, mingling and great conversation with elected officials. Learn about the most recent General Assembly session.&nbsp\;Tickets are just $10.00 and include a drink ticket and a ballpark feast of hot dogs\, hamburgers\, and sides!<br />\nCapacity is limited so get your tickets today!</p>\n\n<p style="margin: 0px\; padding: 10px 0px 0px\; color: rgb(111\, 114\, 135)\; font-size: 16px\; line-height: 1.5rem\; font-family: &quot\;Neue Plak&quot\;\, -apple-system\, BlinkMacSystemFont\, Roboto\, &quot\;Helvetica Neue&quot\;\, Helvetica\, Tahoma\, Arial\, sans-serif\; letter-spacing: 0.5px\;">&nbsp\;</p>\n\n<p style="margin: 0px\; padding: 10px 0px 0px\; color: rgb(111\, 114\, 135)\; font-size: 16px\; line-height: 1.5rem\; font-family: &quot\;Neue Plak&quot\;\, -apple-system\, BlinkMacSystemFont\, Roboto\, &quot\;Helvetica Neue&quot\;\, Helvetica\, Tahoma\, Arial\, sans-serif\; letter-spacing: 0.5px\;">Thank you to our sponsors!</p>\n\n<p style="margin: 0px\; padding: 10px 0px 0px\; color: rgb(111\, 114\, 135)\; font-size: 16px\; line-height: 1.5rem\; font-family: &quot\;Neue Plak&quot\;\, -apple-system\, BlinkMacSystemFont\, Roboto\, &quot\;Helvetica Neue&quot\;\, Helvetica\, Tahoma\, Arial\, sans-serif\; letter-spacing: 0.5px\;">Title Professionals\, Union Home Mortgage and Contractors Websites Plus</p>\n
LOCATION:Fredericksburg Nationals 42 Jackie Robinson Way Fredericksburg\, VA 22401
UID:e.9458.3631
SEQUENCE:3
DTSTAMP:20260419T213702Z
URL:http://fabava.memberzone.com/events/details/2022-legislative-review-3631
END:VEVENT

END:VCALENDAR
