BEGIN:VCALENDAR
VERSION:2.0
PRODID:-//ChamberMaster//Event Calendar 2.0//EN
METHOD:PUBLISH
X-PUBLISHED-TTL:P3D
REFRESH-INTERVAL:P3D
CALSCALE:GREGORIAN
BEGIN:VEVENT
DTSTART:20220426T130000Z
DTEND:20220426T210000Z
X-MICROSOFT-CDO-ALLDAYEVENT:FALSE
SUMMARY:2022 Intern Expo
DESCRIPTION:Help support the Chamber and the students at the Intern expo. \n\nTuesday\, April 26th at the Expo Center.\n\n\n\nBusinesses needed! \n\nJoin the Chamber as they welcome 500 students to learn about internship opportunities. \n\n\n\nRegister here\n\n\n\nInterested in volunteering at the FABA booth? Click here to sign up!
X-ALT-DESC;FMTTYPE=text/html:Help support the Chamber and the students at the Intern expo.&nbsp\;<br />\nTuesday\, April 26th at the Expo Center.<br />\n<br />\nBusinesses needed!&nbsp\;<br />\nJoin the Chamber as they welcome 500 students to learn about internship opportunities.&nbsp\;<br />\n<br />\n<span style="font-size:24px\;"><strong><a href="https://fredericksburgregionalchamber.chambermaster.com/eventregistration/register/12071">Register here</a><br />\n<br />\nInterested in volunteering at the FABA booth? <a href="https://www.signupgenius.com/go/60B054DA4A82BA5FD0-internship">Click here to sign up!</a></strong></span><br />\n&nbsp\;
LOCATION:Fredericksburg Expo Center
UID:e.9458.3630
SEQUENCE:3
DTSTAMP:20260419T233403Z
URL:http://fabava.memberzone.com/events/details/2022-intern-expo-3630
END:VEVENT

END:VCALENDAR
