BEGIN:VCALENDAR
VERSION:2.0
PRODID:-//ChamberMaster//Event Calendar 2.0//EN
METHOD:PUBLISH
X-PUBLISHED-TTL:P3D
REFRESH-INTERVAL:P3D
CALSCALE:GREGORIAN
BEGIN:VEVENT
DTSTART:20220819T210000Z
DTEND:20220820T010000Z
X-MICROSOFT-CDO-ALLDAYEVENT:FALSE
SUMMARY:2022 FABA Summer Fest
DESCRIPTION:Save the date! Friday\, August 19\, 2022 \n\n\n\nFABA's Annual Crabfeast & BBQ! NOW FABA Summer Fest!\n\nSheli Schneider and Chrissy King - Chairmen\n\n\n\nWe are so excited to reintroduce this signature FABA event. Not your same ole Crab Feast\, this year we are excited to be adding more food\, more entertainment and more fun to this annual summer party!  \n\nThis is an excellent way to entertain special clients and guests or to recognize the hard work of your loyal employees. In addition to the wonderful meal\, attendees have an opportunity to socialize with their peers\, listen to some great music from Home Grown\, and test their skills with a game of cornhole or simply relax. This will be the party you don't want to miss!\n\n\n\nVIP tents are going fast! $400 per tent. Includes table\, chairs and tent for 8 (does not include tickets to Summer Fest) Don't forget about our annual tent decorating contest! \n\n\n\nThis event is open to FABA Members and anyone that wants to join\, don't be shy!\n\n\n\nInterested in volunteering? \n\nclick the link below to sign up (must have a ticket to volunteer) \n\nhttps://www.signupgenius.com/go/60B054DA4A82BA5FD0-summer
X-ALT-DESC;FMTTYPE=text/html:<u><strong>Save the date! Friday\, August 19\, 2022&nbsp\;</strong></u><br />\n<br />\n<span style="font-size:18px\;">FABA&#39\;s Annual Crabfeast &amp\; BBQ! NOW FABA Summer Fest!</span><br />\n<em><span style="font-size:14px\;"><span style="font-family:arial\;">Sheli Schneider&nbsp\;and Chrissy King - Chairmen</span></span></em><br />\n<br />\n<span style="font-size:14px\;"><span style="font-family:arial\;">We are so excited to reintroduce this&nbsp\;signature</span></span><span style="font-size:14px\;"><span style="font-family:arial\;"> FABA event. Not your same ole Crab Feast\, this year we are excited to be adding more food\, more entertainment and more fun to this annual summer party!&nbsp\;</span></span><span style="color: rgb(29\, 33\, 41)\; font-family: Helvetica\, Arial\, sans-serif\; font-size: 14px\;">&nbsp\;</span><br style="color: rgb(29\, 33\, 41)\; font-family: Helvetica\, Arial\, sans-serif\; font-size: 14px\;" />\n<span style="color: rgb(29\, 33\, 41)\; font-family: Helvetica\, Arial\, sans-serif\; font-size: 14px\;">This is an excellent way to entertain special clients and guests or to recognize the hard work of your loyal employees. In addition to the wonderful meal\, attendees have an opportunity to socialize with their peers\, listen to some great music from Home Grown\, and test their skills with a game of cornhole or simply relax. This will be the party you don&#39\;t want to miss!</span><br />\n<br />\nVIP tents are going fast! $400 per tent. Includes table\, chairs and tent for 8 (does not include tickets to Summer Fest) Don&#39\;t forget about our annual tent decorating contest!&nbsp\;<br />\n<br style="color: rgb(29\, 33\, 41)\; font-family: Helvetica\, Arial\, sans-serif\; font-size: 14px\;" />\n<span style="color: rgb(29\, 33\, 41)\; font-family: Helvetica\, Arial\, sans-serif\; font-size: 14px\;">This event is open to FABA Members and anyone that wants to join\, don&rsquo\;t be shy!<br />\n<br />\n<u><span style="font-size:22px\;"><strong>Interested in volunteering? </strong></span></u><br />\nclick the link below to sign up (must have a ticket to volunteer)&nbsp\;</span><br />\nhttps://www.signupgenius.com/go/60B054DA4A82BA5FD0-summer<br />\n&nbsp\;
LOCATION:Fredericksburg Rod & Gun Club 3101 Haislip Pond Rd. Fredericksburg\, VA 22408
UID:e.9458.3615
SEQUENCE:3
DTSTAMP:20260419T142713Z
URL:http://fabava.memberzone.com/events/details/2022-faba-summer-fest-3615
END:VEVENT

END:VCALENDAR
