BEGIN:VCALENDAR
VERSION:2.0
PRODID:-//ChamberMaster//Event Calendar 2.0//EN
METHOD:PUBLISH
X-PUBLISHED-TTL:P3D
REFRESH-INTERVAL:P3D
CALSCALE:GREGORIAN
BEGIN:VEVENT
DTSTART:20220712T190000Z
DTEND:20220712T220000Z
X-MICROSOFT-CDO-ALLDAYEVENT:FALSE
SUMMARY:2022 FABA "Building 15th Birthday Party"
DESCRIPTION:Come on over and celebrate with us as the FABA building on Lafayette Blvd turns 15! Join us for a FABA open house with food\, drinks and all your favorite FABA friends. This event is free to attend! \n\nSponsored by Union Home and MidSouth
X-ALT-DESC;FMTTYPE=text/html:<span style="color: rgb(5\, 5\, 5)\; font-family: &quot\;Segoe UI Historic&quot\;\, &quot\;Segoe UI&quot\;\, Helvetica\, Arial\, sans-serif\; font-size: 15px\;">Come on over and celebrate with us as the FABA building on Lafayette Blvd turns 15! Join us for a FABA open house with food\, drinks and all your favorite FABA friends. This event is free to attend!&nbsp\;<br />\nSponsored by Union Home and MidSouth&nbsp\;</span>
LOCATION:FABA Office 3006 Lafayette Blvd. Fredericksburg\, VA 22408
UID:e.9458.3649
SEQUENCE:3
DTSTAMP:20260419T180348Z
URL:http://fabava.memberzone.com/events/details/2022-faba-building-15th-birthday-party-3649
END:VEVENT

END:VCALENDAR
