BEGIN:VCALENDAR
VERSION:2.0
PRODID:-//ChamberMaster//Event Calendar 2.0//EN
METHOD:PUBLISH
X-PUBLISHED-TTL:P3D
REFRESH-INTERVAL:P3D
CALSCALE:GREGORIAN
BEGIN:VEVENT
DTSTART:20220908T190000Z
DTEND:20220908T220000Z
X-MICROSOFT-CDO-ALLDAYEVENT:FALSE
SUMMARY:2022 Disc Golf
DESCRIPTION:Postponed to September 8th\n\nFABA members - join us for this free event! \n\n\n\nDisc golf is played much like traditional golf\, but instead of a ball and clubs\, players use a flying disc\, or Frisbee! FABA joins with professional players for a day of fun!  \n\n\n\nThank you to our title sponsor - Truist\n\n\n\nMust register to participate! \n\n(Limited spots available\, so register today!)
X-ALT-DESC;FMTTYPE=text/html:<strong>Postponed to September 8th</strong><br />\nFABA members - join us for this free event!&nbsp\;<br />\n<br />\nDisc golf is played much like traditional golf\, but instead of a ball and clubs\, players use a flying disc\, or Frisbee! FABA joins with professional players for a day of fun!&nbsp\;&nbsp\;<br />\n<br />\nThank you to our title sponsor - Truist<br />\n<br />\nMust register to participate!&nbsp\;<br />\n<em>(Limited spots available\, so register today!)</em><br />\n&nbsp\;
LOCATION:Cannon Ridge Disc Golf Course 6309 Cannon Ridge CT\, Fredericksburg\, VA 22407 In Spotsylvania County off Rte 3
UID:e.9458.3616
SEQUENCE:3
DTSTAMP:20260419T124102Z
URL:http://fabava.memberzone.com/events/details/2022-disc-golf-3616
END:VEVENT

END:VCALENDAR
