BEGIN:VCALENDAR
VERSION:2.0
PRODID:-//ChamberMaster//Event Calendar 2.0//EN
METHOD:PUBLISH
X-PUBLISHED-TTL:P3D
REFRESH-INTERVAL:P3D
CALSCALE:GREGORIAN
BEGIN:VEVENT
DTSTART:20220414T153000Z
DTEND:20220414T170000Z
X-MICROSOFT-CDO-ALLDAYEVENT:FALSE
SUMMARY:2022 County Spotlight - City of Fredericksburg
DESCRIPTION:Join FABA and potential members for our new County Spotlight series. This month we are highlighting City of  Fredericksburg. Thank you to our sponsor Contractor Websites Plus \n\nJoin us for lunch at Renatos and hear from Fredericksburg City\, Chuck Johnston the Director of Community Planning & Building.\n\nTake this opportunity to connect with our members and future members in Fredericksburg \n\n\n\nTickets are only $10 and includes lunch
X-ALT-DESC;FMTTYPE=text/html:Join FABA and potential members for our new County Spotlight series. This month we are highlighting City of&nbsp\; Fredericksburg. Thank you to our sponsor Contractor Websites Plus&nbsp\;<br />\nJoin us for lunch at Renatos and hear from Fredericksburg City\, Chuck Johnston the Director of Community Planning &amp\; Building.<br />\nTake this opportunity to connect with our members and future members in Fredericksburg&nbsp\;<br />\n<br />\nTickets are only $10 and includes lunch&nbsp\;
LOCATION:Renatos 422 William St\, Fredericksburg\, VA 22401
UID:e.9458.3629
SEQUENCE:3
DTSTAMP:20260419T233640Z
URL:http://fabava.memberzone.com/events/details/2022-county-spotlight-city-of-fredericksburg-3629
END:VEVENT

END:VCALENDAR
