BEGIN:VCALENDAR
VERSION:2.0
PRODID:-//ChamberMaster//Event Calendar 2.0//EN
METHOD:PUBLISH
X-PUBLISHED-TTL:P3D
REFRESH-INTERVAL:P3D
CALSCALE:GREGORIAN
BEGIN:VEVENT
DTSTART:20220308T163000Z
DTEND:20220308T180000Z
X-MICROSOFT-CDO-ALLDAYEVENT:FALSE
SUMMARY:2022 - Construction Luncheon - Presented by The FABA Young Professionals
DESCRIPTION:Join the FABA Young Professionals for an educational opportunity and lunch. \n\nTickets are just $10.00 each and lunch is provided. The Learning Lunches will take place every other month on the 2nd Tuesday at the FABA office. \n\n\n\nThis month we have Kathy and Scott from Topside Federal Credit Union to teach us all about retirement\, why starting as a young professional is so important and the business loan process for all of those considering starting their own business one day!
X-ALT-DESC;FMTTYPE=text/html:Join the FABA Young Professionals for an educational opportunity and lunch.&nbsp\;<br />\nTickets are just $10.00 each and lunch is provided. The Learning Lunches will take place every other month on the 2nd Tuesday at the FABA office.&nbsp\;<br />\n<br />\nThis month we have Kathy and Scott from Topside Federal Credit Union to teach us all about retirement\, why starting as a young professional is so important and the business loan process for all of those considering starting their own business one day!&nbsp\;
LOCATION:The FABA Office 3006 Lafayette Blvd. Fredericksburg\, VA 22408
UID:e.9458.3596
SEQUENCE:3
DTSTAMP:20260420T012406Z
URL:http://fabava.memberzone.com/events/details/2022-construction-luncheon-presented-by-the-faba-young-professionals-3596
END:VEVENT

END:VCALENDAR
