BEGIN:VCALENDAR
VERSION:2.0
PRODID:-//ChamberMaster//Event Calendar 2.0//EN
METHOD:PUBLISH
X-PUBLISHED-TTL:P3D
REFRESH-INTERVAL:P3D
CALSCALE:GREGORIAN
BEGIN:VEVENT
DTSTART:20210424T130000Z
DTEND:20210424T200000Z
X-MICROSOFT-CDO-ALLDAYEVENT:FALSE
SUMMARY:2021 Wine Tour - FAB
DESCRIPTION:Join FABA and Midsouth for an exciting wine-filled day. Traveling to some of the area's best wineries. We will have our classic 50/50 raffle to benefit FAB foundation. \n\nStart the day with a complimentary breakfast brought to you by Midsouth\, then hit the road!\n\n\n\n$50 per person for bus Wine not included \n\nLimited seats\, reserve your spot today!\n\n\n\n9:00 AM Start off at Mid South Building Supply with breakfast before heading out to our first destination. \n\n10:00 AM Bus departs
X-ALT-DESC;FMTTYPE=text/html:<span style="font-size:18px\;">Join FABA and Midsouth for an exciting wine-filled day. Traveling to some of the area&#39\;s best wineries. We will have our classic 50/50 raffle to benefit FAB foundation.&nbsp\;<br />\nStart the day with a complimentary breakfast brought to you by Midsouth\, then hit the road!<br />\n<br />\n$50 per person for bus&nbsp\;<em>Wine not included&nbsp\;</em><br />\nLimited seats\,&nbsp\;reserve your&nbsp\;spot today!</span><br />\n<br />\n<span style="font-size:18px\;">9:00 AM Start off at Mid South Building Supply with breakfast before heading out to our first destination.&nbsp\;<br />\n10:00 AM Bus departs&nbsp\;</span>
LOCATION:MidSouth 9-9:45am Depart 9:45-10:00am Molon Lave Vineyards 11:00am-12:00pm Barking Rose Brewing Co. & Farm 12:15pm-1:30pm Mountain Run Winery 2:30pm-5:00pm (food truck and live music starts at 3:00pm) Arrive back at MidSouth 6:00pm
UID:e.9458.3297
SEQUENCE:3
DTSTAMP:20260421T022738Z
URL:http://fabava.memberzone.com/events/details/2021-wine-tour-fab-3297
END:VEVENT

END:VCALENDAR
