BEGIN:VCALENDAR
VERSION:2.0
PRODID:-//ChamberMaster//Event Calendar 2.0//EN
METHOD:PUBLISH
X-PUBLISHED-TTL:P3D
REFRESH-INTERVAL:P3D
CALSCALE:GREGORIAN
BEGIN:VEVENT
DTSTART:20211012T130000Z
DTEND:20211012T203000Z
X-MICROSOFT-CDO-ALLDAYEVENT:FALSE
SUMMARY:2021 Virginia Builders Summit & Expo
DESCRIPTION:The Virginia Builders Summit & Expo brings housing industry professionals together from across Virginia for one day. Exhibitors will display products and services\, build relationships\, create brand awareness\, generate leads\, and be able to answer questions in person. The home building and housing market is constantly evolving. Attendees will look to the vendors at the Virginia Builders Summit and Expo for new products and services to separate them from their competition.\n\n\n\nRegister here: https://www.vabuilderssummit.com/register/
X-ALT-DESC;FMTTYPE=text/html:T<span style="color: rgb(102\, 102\, 102)\; font-family: Karla\, Helvetica\, Arial\, Lucida\, sans-serif\; font-size: 16px\;">he Virginia Builders Summit &amp\; Expo brings housing industry professionals together from across Virginia for one day. Exhibitors&nbsp\;will display products and services\, build relationships\, create brand awareness\, generate leads\, and be able to answer questions in person. The home building and housing market is constantly evolving. Attendees will look to the vendors at the Virginia Builders Summit and Expo for new products and services to separate them from their competition.<br />\n<br />\nRegister here:&nbsp\;</span>https://www.vabuilderssummit.com/register/
LOCATION:Richmond Marriott Downtown 500 E Broad Street Richmond\, VA 23219
UID:e.9458.3381
SEQUENCE:3
DTSTAMP:20260420T141829Z
URL:http://fabava.memberzone.com/events/details/2021-virginia-builders-summit-expo-3381
END:VEVENT

END:VCALENDAR
