BEGIN:VCALENDAR
VERSION:2.0
PRODID:-//ChamberMaster//Event Calendar 2.0//EN
METHOD:PUBLISH
X-PUBLISHED-TTL:P3D
REFRESH-INTERVAL:P3D
CALSCALE:GREGORIAN
BEGIN:VEVENT
DTSTART:20211209T220000Z
DTEND:20211210T000000Z
X-MICROSOFT-CDO-ALLDAYEVENT:FALSE
SUMMARY:2021 Hard Hat Networking
DESCRIPTION:Join the FABA family for some Holiday fun at Highmark Brewery! Thank you to our sponsor\, 516 Project.\n\nDecember 9th from 5:00-7:00PM\n\nInterested in helping us decorate for our party? email Meghan@fabava.com!\n\nDon't forget to wear your best tacky Christmas sweaters for a chance to win a prize provided by our host\, 516 Project!\n\nIn the spirit of the holidays\, we are going to be collecting canned goods for the Fredericksburg Food Bank.\n\nStarting at 4:30 we welcome our new members for a brief new member orientation/celebration. Never went through a new member orientation? You are welcome to join!\n\nThere is a lot happening this month\, so don't miss out. Mark your calendars now!
X-ALT-DESC;FMTTYPE=text/html:<div class="kvgmc6g5 cxmmr5t8 oygrvhab hcukyx3x c1et5uql" style="overflow-wrap: break-word\; margin: 0px\; font-family: &quot\;Segoe UI Historic&quot\;\, &quot\;Segoe UI&quot\;\, Helvetica\, Arial\, sans-serif\; color: rgb(5\, 5\, 5)\; font-size: 15px\;">Join the FABA family for some Holiday fun at Highmark Brewery! Thank you to our sponsor\, 516 Project.<br />\nDecember 9th from 5:00-7:00PM<br />\nInterested in helping us decorate for our party? email Meghan@fabava.com!<br />\nDon&#39\;t forget to wear your best tacky Christmas sweaters for a chance to win a prize provided by our host\, 516 Project!</div>\n\n<div class="o9v6fnle cxmmr5t8 oygrvhab hcukyx3x c1et5uql" style="overflow-wrap: break-word\; margin: 0.5em 0px 0px\; font-family: &quot\;Segoe UI Historic&quot\;\, &quot\;Segoe UI&quot\;\, Helvetica\, Arial\, sans-serif\; color: rgb(5\, 5\, 5)\; font-size: 15px\;">In the spirit of the holidays\, we are going to be collecting canned goods for the Fredericksburg Food Bank.</div>\n\n<div class="o9v6fnle cxmmr5t8 oygrvhab hcukyx3x c1et5uql" style="overflow-wrap: break-word\; margin: 0.5em 0px 0px\; font-family: &quot\;Segoe UI Historic&quot\;\, &quot\;Segoe UI&quot\;\, Helvetica\, Arial\, sans-serif\; color: rgb(5\, 5\, 5)\; font-size: 15px\;">Starting at 4:30 we welcome our new members for a brief new member orientation/celebration. Never went through a new member orientation? You are welcome to join!</div>\n\n<div class="o9v6fnle cxmmr5t8 oygrvhab hcukyx3x c1et5uql" style="overflow-wrap: break-word\; margin: 0.5em 0px 0px\; font-family: &quot\;Segoe UI Historic&quot\;\, &quot\;Segoe UI&quot\;\, Helvetica\, Arial\, sans-serif\; color: rgb(5\, 5\, 5)\; font-size: 15px\;">There is a lot happening this month\, so don&#39\;t miss out. Mark your calendars now!&nbsp\;</div>\n
LOCATION:Highmark Brewing
UID:e.9458.3222
SEQUENCE:3
DTSTAMP:20260420T065951Z
URL:http://fabava.memberzone.com/events/details/2021-hard-hat-networking-12-16-2021-3222
END:VEVENT

END:VCALENDAR
