BEGIN:VCALENDAR
VERSION:2.0
PRODID:-//ChamberMaster//Event Calendar 2.0//EN
METHOD:PUBLISH
X-PUBLISHED-TTL:P3D
REFRESH-INTERVAL:P3D
CALSCALE:GREGORIAN
BEGIN:VEVENT
DTSTART:20210819T210000Z
DTEND:20210819T230000Z
X-MICROSOFT-CDO-ALLDAYEVENT:FALSE
SUMMARY:2021 Hard Hat Networking
DESCRIPTION:Join us for some networking and fun! Sponsored by Pest Solutions. \n\nFeel free to invite guests who might want to learn more about FABA.\n\n \n\nIt's August and that means it is time to put on your "Hard Hats" for a great cause. Pest Solutions is hosting this month's event and we've decided it's time to put in the good work for our Spotsylvania County students. There are over 500 homeless students within the Spotsylvania County School system and that number is due to rise significantly once they resume in-person learning. These students suffer from food insecurity\, supply deficiency and physical and mental health concerns. Most importantly\, they are dependent on the generosity of the community and people like you to make sure they have the basic essentials of what they need to succeed.\n\n \n\nThat is why Pest Solutions is partnering with Spotsylvania County Schools Lead Social Worker\, and our customer\, Michelle Swisher to raise funds and gather donations at August's Hard Hat Networking Event. Mrs. Swisher runs Treasure House\, a small building attached to the back of Massaponax High School filled with school supplies\, personal goods and non-perishable food items. Students and their families can visit Treasure House once a month to stock up on needed food/personal items\, as well as visit Treasure House for school supplies to get them started on the right foot. Right now\, with SCS restarting in-person learning on August 12\, Treasure House's main focus is on school supplies. There is a large need in our community and\, we\, at Pest Solutions\, think the FABA Family is just the right group to help tackle it!\n\n\n \n\nOn Thursday\, August 19 join Pest Solutions at Maltese Brewing between 5-7 for a fun and charitable evening. We'll be hosting a raffle with all proceeds going to Treasure House. We will be selling raffle tickets to win a gift basket and MANY other Bug-tastic opportunities to raise funds for Treasure House. We are welcoming supply donations (backpacks\, pens\, general school supplies)\, if you would prefer\, but our main focus is raising funds so the Treasure House leaders and volunteers can purchase the supplies they know are needed most. So\, with that said\, make sure to bring COLD\, HARD CASH MONEY to participate in the raffles and contests\, with every penny focused on the SCS homeless students. \n\n \n\nLet's help knock down homelessness and build a better community!\n\n \n\nPest Solutions looks forward to seeing you there!!
X-ALT-DESC;FMTTYPE=text/html:Join us for some networking and fun! Sponsored by Pest Solutions.&nbsp\;<br />\nFeel free to invite guests who might want to learn more about FABA.<br />\n&nbsp\;\n<div style="margin: 0px\; padding: 0px\; border: 0px\; font-variant-numeric: inherit\; font-variant-east-asian: inherit\; font-stretch: inherit\; font-size: 15px\; line-height: inherit\; font-family: &quot\;Segoe UI&quot\;\, &quot\;Segoe UI Web (West European)&quot\;\, &quot\;Segoe UI&quot\;\, -apple-system\, BlinkMacSystemFont\, Roboto\, &quot\;Helvetica Neue&quot\;\, sans-serif\; vertical-align: baseline\; color: rgb(32\, 31\, 30)\;">\n<div style="margin: 0px\; padding: 0px\; border: 0px\; font: inherit\; vertical-align: baseline\; color: inherit\;">It&#39\;s August and that means it is time to put on your&nbsp\;<b>&quot\;Hard Hats&quot\;&nbsp\;</b>for a great cause.&nbsp\;<b>Pest Solutions</b>&nbsp\;is hosting this month&#39\;s event and we&#39\;ve decided it&#39\;s time to put in the good work for our&nbsp\;<b>Spotsylvania County students.</b>&nbsp\;<b>There are</b>&nbsp\;<b>over 500 homeless students within the Spotsylvania County School system</b>&nbsp\;and that number is due to rise significantly once they resume in-person learning. These students suffer from food insecurity\, supply deficiency and physical and mental health concerns. Most importantly\,&nbsp\;they are dependent on the generosity of the community and people like&nbsp\;you to make sure they have the basic essentials of what they need to succeed.</div>\n\n<div style="margin: 0px\; padding: 0px\; border: 0px\; font: inherit\; vertical-align: baseline\; color: inherit\;">&nbsp\;</div>\n\n<div style="margin: 0px\; padding: 0px\; border: 0px\; font: inherit\; vertical-align: baseline\; color: inherit\;">That is why Pest Solutions is partnering with&nbsp\;<b>Spotsylvania County Schools</b>&nbsp\;Lead Social Worker\,&nbsp\;<i>and our customer</i>\, Michelle Swisher to raise funds and gather donations at&nbsp\;<b>August&#39\;s Hard Hat Networking&nbsp\;Event.</b>&nbsp\;Mrs. Swisher runs&nbsp\;<b>Treasure House</b>\, a small building attached to the back of Massaponax High School filled with school supplies\, personal goods and non-perishable food items. Students and their families can visit&nbsp\;<b>Treasure House</b>&nbsp\;once a month to stock up on needed food/personal items\, as well as visit Treasure House for school supplies to get them started on the right foot. Right now\, with SCS restarting in-person learning on August 12\, Treasure House&#39\;s main focus is on school supplies. There is a large need in our community and\, we\, at Pest Solutions\, think the&nbsp\;<b>FABA Family</b>&nbsp\;is just the right group to help tackle it!</div>\n</div>\n\n<div style="margin: 0px\; padding: 0px\; border: 0px\; font-variant-numeric: inherit\; font-variant-east-asian: inherit\; font-stretch: inherit\; font-size: 15px\; line-height: inherit\; font-family: &quot\;Segoe UI&quot\;\, &quot\;Segoe UI Web (West European)&quot\;\, &quot\;Segoe UI&quot\;\, -apple-system\, BlinkMacSystemFont\, Roboto\, &quot\;Helvetica Neue&quot\;\, sans-serif\; vertical-align: baseline\; color: rgb(32\, 31\, 30)\;">&nbsp\;</div>\n\n<div style="margin: 0px\; padding: 0px\; border: 0px\; font-variant-numeric: inherit\; font-variant-east-asian: inherit\; font-stretch: inherit\; font-size: 15px\; line-height: inherit\; font-family: &quot\;Segoe UI&quot\;\, &quot\;Segoe UI Web (West European)&quot\;\, &quot\;Segoe UI&quot\;\, -apple-system\, BlinkMacSystemFont\, Roboto\, &quot\;Helvetica Neue&quot\;\, sans-serif\; vertical-align: baseline\; color: rgb(32\, 31\, 30)\;">On Thursday\, August 19 join&nbsp\;<b>Pest Solutions&nbsp\;</b>at Maltese Brewing between 5-7 for a fun and charitable&nbsp\;evening. We&#39\;ll be hosting a raffle with all proceeds going to&nbsp\;<b>Treasure House</b>. We will be selling raffle tickets to win a gift basket and MANY other&nbsp\;<b>Bug-tastic</b>&nbsp\;opportunities to raise funds for&nbsp\;<b>Treasure House</b>. We are welcoming supply donations (backpacks\, pens\, general school supplies)\, if you would prefer\, but our&nbsp\;<b>main focus is raising funds so the</b>&nbsp\;<b>Treasure House leaders and volunteers can purchase the supplies they know are needed most</b>. So\, with that said\, make sure to bring&nbsp\;<b>COLD\, HARD CASH MONEY</b>&nbsp\;to participate&nbsp\;in the raffles and contests\, with&nbsp\;<b>every penny focused on the SCS homeless students.</b>&nbsp\;</div>\n\n<div style="margin: 0px\; padding: 0px\; border: 0px\; font-variant-numeric: inherit\; font-variant-east-asian: inherit\; font-stretch: inherit\; font-size: 15px\; line-height: inherit\; font-family: &quot\;Segoe UI&quot\;\, &quot\;Segoe UI Web (West European)&quot\;\, &quot\;Segoe UI&quot\;\, -apple-system\, BlinkMacSystemFont\, Roboto\, &quot\;Helvetica Neue&quot\;\, sans-serif\; vertical-align: baseline\; color: rgb(32\, 31\, 30)\;">&nbsp\;</div>\n\n<div style="margin: 0px\; padding: 0px\; border: 0px\; font-variant-numeric: inherit\; font-variant-east-asian: inherit\; font-stretch: inherit\; font-size: 15px\; line-height: inherit\; font-family: &quot\;Segoe UI&quot\;\, &quot\;Segoe UI Web (West European)&quot\;\, &quot\;Segoe UI&quot\;\, -apple-system\, BlinkMacSystemFont\, Roboto\, &quot\;Helvetica Neue&quot\;\, sans-serif\; vertical-align: baseline\; color: rgb(32\, 31\, 30)\;">Let&#39\;s help knock down homelessness and build a better community!</div>\n\n<div style="margin: 0px\; padding: 0px\; border: 0px\; font-variant-numeric: inherit\; font-variant-east-asian: inherit\; font-stretch: inherit\; font-size: 15px\; line-height: inherit\; font-family: &quot\;Segoe UI&quot\;\, &quot\;Segoe UI Web (West European)&quot\;\, &quot\;Segoe UI&quot\;\, -apple-system\, BlinkMacSystemFont\, Roboto\, &quot\;Helvetica Neue&quot\;\, sans-serif\; vertical-align: baseline\; color: rgb(32\, 31\, 30)\;">&nbsp\;</div>\n\n<div style="margin: 0px\; padding: 0px\; border: 0px\; font-variant-numeric: inherit\; font-variant-east-asian: inherit\; font-stretch: inherit\; font-size: 15px\; line-height: inherit\; font-family: &quot\;Segoe UI&quot\;\, &quot\;Segoe UI Web (West European)&quot\;\, &quot\;Segoe UI&quot\;\, -apple-system\, BlinkMacSystemFont\, Roboto\, &quot\;Helvetica Neue&quot\;\, sans-serif\; vertical-align: baseline\; color: rgb(32\, 31\, 30)\;">Pest Solutions looks forward to seeing you there!!&nbsp\;</div>\n
LOCATION:Maltese Brewery
UID:e.9458.3218
SEQUENCE:3
DTSTAMP:20260420T180255Z
URL:http://fabava.memberzone.com/events/details/2021-hard-hat-networking-08-19-2021-3218
END:VEVENT

END:VCALENDAR
