BEGIN:VCALENDAR
VERSION:2.0
PRODID:-//ChamberMaster//Event Calendar 2.0//EN
METHOD:PUBLISH
X-PUBLISHED-TTL:P3D
REFRESH-INTERVAL:P3D
CALSCALE:GREGORIAN
BEGIN:VEVENT
DTSTART:20210715T210000Z
DTEND:20210715T230000Z
X-MICROSOFT-CDO-ALLDAYEVENT:FALSE
SUMMARY:2021 Hard Hat Networking
DESCRIPTION:Join us for some networking and fun! Sponsored by MidSouth. \n\nFeel free to invite guests who might want to learn more about FABA.
X-ALT-DESC;FMTTYPE=text/html:Join us for some networking and fun! Sponsored by MidSouth.&nbsp\;<br />\nFeel free to invite guests who might want to learn more about FABA.<br />\n<br />\n&nbsp\;
LOCATION:Ristorante Renato 422 William St #5834\, Fredericksburg\, VA 22401
UID:e.9458.3217
SEQUENCE:3
DTSTAMP:20260420T210634Z
URL:http://fabava.memberzone.com/events/details/2021-hard-hat-networking-07-15-2021-3217
END:VEVENT

END:VCALENDAR
