BEGIN:VCALENDAR
VERSION:2.0
PRODID:-//ChamberMaster//Event Calendar 2.0//EN
METHOD:PUBLISH
X-PUBLISHED-TTL:P3D
REFRESH-INTERVAL:P3D
CALSCALE:GREGORIAN
BEGIN:VEVENT
DTSTART;VALUE=DATE:20200615
DTEND;VALUE=DATE:20200620
TRANSP:TRANSPARENT
X-MICROSOFT-CDO-ALLDAYEVENT:TRUE
SUMMARY:2020 NAHB Spring Leadership Virtual Meetings
DESCRIPTION:Jun 15-19\, 20209 AM - 6 PM\n\n\n\n\nIn an effort to keep the NAHB Federation safe\, the 2020 Spring Leadership Meetings will be moved to virtual sessions. NAHB is committed to using the existing meeting dates to support the various sessions that comprise the Spring Leadership Meeting. The schedule (as of May 29) is available for download here.\n\nRegister Now\n\nFollowing the leadership meetings\, NAHB members and HBA are encouraged to participate in the most important grassroots event of the year\, the 2020 NAHB Legislative Conference\, June 22-24\, which will also be held virtually. Now\, more than ever\, federal lawmakers must understand the industry's legislative priorities as housing prepares to lead our nation's eventual economic recovery. Learn more here.\n\nWe appreciate your flexibility and patience as we work to continue the efforts of the Federation during this challenging time.\n\nFor questions\, please email bod@nahb.org.
X-ALT-DESC;FMTTYPE=text/html:<div class="event-card__table" style="box-sizing: inherit\; margin-bottom: 1.25rem\; display: table\; width: 841px\; color: rgb(48\, 49\, 51)\; font-family: Roboto\; font-size: 18px\;">\n<div class="event-card__table-left" style="box-sizing: inherit\; display: table-cell\; width: 841px\;">\n<h4 class="event-card__date" style="box-sizing: inherit\; font-size: 20px\; margin: 0px 0px 1.25rem\; padding: 0px\; font-family: Roboto\, -apple-system\, BlinkMacSystemFont\, &quot\;Segoe UI&quot\;\, Roboto\, Helvetica\, Arial\, sans-serif\, &quot\;Apple Color Emoji&quot\;\, &quot\;Segoe UI Emoji&quot\;\, &quot\;Segoe UI Symbol&quot\;\; line-height: 30px\; color: rgb(21\, 44\, 61)\;"><span style="box-sizing: inherit\; display: block\;">Jun 15-19\, 2020</span><span style="box-sizing: inherit\; display: block\; font-size: 1.25rem\;">9 AM - 6 PM</span></h4>\n</div>\n</div>\n\n<div class="event-card__information" style="box-sizing: inherit\; margin-bottom: 1.25rem\; font-size: 1rem\; line-height: 1.6\; color: rgb(48\, 49\, 51)\; font-family: Roboto\;">\n<p style="box-sizing: inherit\; margin: 0px 0px 18px\; padding: 0px\; font-size: 18px\; line-height: 1.6\;">In an effort to keep the NAHB Federation safe\, the 2020 Spring Leadership Meetings will be moved to virtual sessions. NAHB is committed to using the existing meeting dates to support the various sessions that comprise the Spring Leadership Meeting. The schedule (as of May 29) is available for&nbsp\;<span style="box-sizing: inherit\; color: rgb(0\, 102\, 204)\; text-decoration-line: underline\;"><a data-feathr-click-track="true" href="https://www.nahb.org/-/media/NAHB/education-and-events/docs/leadership-meetings/spring-leadership-virtual-meetings-schedule-2020.pdf" style="box-sizing: inherit\; background: transparent\; color: rgb(0\, 138\, 223)\; transition: color 0.28s cubic-bezier(0.4\, 0\, 0.2\, 1) 0s\, color 0.28s cubic-bezier(0.4\, 0\, 0.2\, 1) 0s\;" target="_blank">download here</a></span>.</p>\n\n<p style="box-sizing: inherit\; margin: 0px 0px 18px\; padding: 0px\; font-size: 18px\; line-height: 1.6\;"><a class="btn btn--primary" data-feathr-click-track="true" href="https://registration.experientevent.com/ShowNHB202/" rel="noopener noreferrer" style="box-sizing: inherit\; background: rgb(0\, 138\, 223)\; color: rgb(255\, 255\, 255)\; transition: color 0.35s ease 0s\, background-color 0.35s ease 0s\, border-color 0.35s ease 0s\; display: inline-block\; padding: 13px 24px\; text-decoration-line: none\; border: 1px solid rgb(0\, 138\, 223)\; line-height: 1\; vertical-align: middle\; cursor: pointer\; font-weight: bold\;" target="_blank">Register Now</a></p>\n\n<p dir="LTR" style="box-sizing: inherit\; margin: 0px 0px 18px\; padding: 0px\; font-size: 18px\; line-height: 1.6\;">Following the leadership meetings\, NAHB members and HBA are encouraged to participate in the most important grassroots event of the year\, the&nbsp\;<a data-feathr-click-track="true" href="https://www.nahb.org/Education-and-Events/Meetings-and-Events/2020-NAHB-Legislative-Conference" style="box-sizing: inherit\; background: transparent\; color: rgb(0\, 138\, 223)\; transition: color 0.28s cubic-bezier(0.4\, 0\, 0.2\, 1) 0s\, color 0.28s cubic-bezier(0.4\, 0\, 0.2\, 1) 0s\;">2020 NAHB Legislative Conference</a>\, June 22-24\, which will also be held virtually. Now\, more than ever\, federal lawmakers must understand the industry&#39\;s legislative priorities as housing prepares to lead our nation&#39\;s eventual economic recovery.&nbsp\;<a data-feathr-click-track="true" href="https://www.nahb.org/Education-and-Events/Meetings-and-Events/2020-NAHB-Legislative-Conference" style="box-sizing: inherit\; background: transparent\; color: rgb(0\, 138\, 223)\; transition: color 0.28s cubic-bezier(0.4\, 0\, 0.2\, 1) 0s\, color 0.28s cubic-bezier(0.4\, 0\, 0.2\, 1) 0s\;">Learn more here</a>.</p>\n\n<p style="box-sizing: inherit\; margin: 0px 0px 18px\; padding: 0px\; font-size: 18px\; line-height: 1.6\;">We appreciate your flexibility and patience as we work to continue the efforts of the Federation during this challenging time.</p>\n\n<p style="box-sizing: inherit\; margin: 0px 0px 18px\; padding: 0px\; font-size: 18px\; line-height: 1.6\;">For questions\, please email&nbsp\;<a data-feathr-click-track="true" href="mailto:bod@nahb.org" style="box-sizing: inherit\; background: transparent\; color: rgb(0\, 138\, 223)\; transition: color 0.28s cubic-bezier(0.4\, 0\, 0.2\, 1) 0s\, color 0.28s cubic-bezier(0.4\, 0\, 0.2\, 1) 0s\;">bod@nahb.org</a>.</p>\n</div>\n
LOCATION:
UID:e.9458.3107
SEQUENCE:3
DTSTAMP:20260421T175713Z
URL:http://fabava.memberzone.com/events/details/2020-nahb-spring-leadership-virtual-meetings-3107
END:VEVENT

END:VCALENDAR
