BEGIN:VCALENDAR
VERSION:2.0
PRODID:-//ChamberMaster//Event Calendar 2.0//EN
METHOD:PUBLISH
X-PUBLISHED-TTL:P3D
REFRESH-INTERVAL:P3D
CALSCALE:GREGORIAN
BEGIN:VEVENT
DTSTART:20201008T150000Z
DTEND:20201008T220000Z
X-MICROSOFT-CDO-ALLDAYEVENT:FALSE
SUMMARY:2020 - Fall Golf Invitational
DESCRIPTION:Thursday\, October 8\, 2020\n\n\n\nFABA Fall Golf Invitational\n\nPendleton Golf Course\n\n6383 Declaration Drive\n\nRuther Glen\, VA 22546\n\nDate:\n\nThursday\, October 8\, 2020\n\n11:00 AM - Check-In \n\n12:30 PM - Shotgun Start\n\n\n\nFees:\n\nFoursome: $550 - includes Golf\, Golf Cart and boxed lunch\n\nMulligan/Powerball package - $20\n\n\n\nMust bring your own mask\, mask is required when in the clubhouse\n\n\n\nSponsorships Available\n\nTitle Sponsor: $2500\, Sold Out - Assurance\, Quarles\n\nLunch Sponsor: $1300\, Sold Out - Builders FirstSource\, Dominion Energy\, Mid South\, Topside FCU\n\nBeverage Cart Sponsor: $1300\, 1 Available \n\nGolf Cart Sponsor: $300\, 1 Still Available - Wetland Studies\n\nAward Sponsor: $250\, 1 Still Available - Wetland Studies\n\nCheck in Table Sponsor\, $250\, Sold Out - J Hall Homes\n\nHole Sponsorships: $150 18 available
X-ALT-DESC;FMTTYPE=text/html:<p><span style="font-size:14px\;"><strong>Thursday\, October 8\, 2020</strong></span><br />\n<br />\n<strong><span style="color: rgb(0\, 0\, 0)\; font-size: 14px\;">FABA F</span></strong><strong><span style="color: rgb(0\, 0\, 0)\; font-size: 14px\;">all Golf Invitational</span></strong></p>\n\n<p><span style="color: rgb(0\, 0\, 0)\; font-size: 14px\; -webkit-text-stroke-color: rgb(0\, 0\, 0)\;">Pendleton&nbsp\;</span><font color="#000000"><span style="font-size: 14px\; -webkit-text-stroke-color: rgb(0\, 0\, 0)\;">Golf Course</span></font><br />\n<span style="color: rgb(34\, 34\, 34)\; font-family: Roboto\, arial\, sans-serif\; font-size: 14px\;">6383 Declaration Drive<br />\nRuther Glen\, VA 22546</span></p>\n\n<p class="p3" style="margin: 0px\; font-variant-numeric: normal\; font-variant-east-asian: normal\; font-stretch: normal\; line-height: normal\; font-family: Arial\; -webkit-text-stroke-color: rgb(102\, 102\, 102)\; min-height: 20px\;"><span style="color: rgb(0\, 0\, 0)\; font-size: 17px\;"><span style="font-size: 14px\;"><span class="s1" style="font-kerning: none\;">Date:</span></span><br />\n<span style="font-size: 14px\;"><span class="s1" style="font-kerning: none\;">Thursday\, October 8\, 2020</span></span></span><br />\n11:00 AM - Check-In&nbsp\;<br />\n12:30&nbsp\;PM - Shotgun Start<br />\n<br />\n<span style="color: rgb(0\, 0\, 0)\; font-size: 17px\;"><strong><span style="font-size: 14px\;"><span class="s1" style="font-kerning: none\;">Fees:</span></span></strong><br />\n<span style="font-size: 14px\;"><span class="s1" style="font-kerning: none\;">Foursome: $550 - includes Golf\, Golf Cart and boxed lunch<br />\nMulligan/Powerball package - $20<br />\n<br />\nMust bring your own mask\, mask is required when in the clubhouse<br />\n<br />\n<span style="font-size:18px\;"><strong>Sponsorships Available</strong></span></span></span></span><br />\n<strong style="font-size: 14px\;">Title Sponsor: $2500\, Sold Out - Assurance\, Quarles<br />\nLunch Sponsor: $1300\, Sold Out - Builders FirstSource\, Dominion Energy\, Mid South\, Topside FCU<br />\nBeverage Cart Sponsor: $1300\, 1 Available&nbsp\;<br />\nGolf Cart Sponsor: $300\, 1&nbsp\;Still Available - Wetland Studies<br />\nAward Sponsor: $250\, 1 Still&nbsp\;Available - Wetland Studies</strong><br style="font-size: 14px\;" />\n<strong style="font-size: 14px\;">Check in Table Sponsor\, $250\, Sold Out - J Hall Homes</strong><br style="font-size: 14px\;" />\n<strong style="font-size: 14px\;">Hole Sponsorships: $150 18 available</strong></p>\n
LOCATION:Pendleton Golf Course 6383 Declaration Drive Ruther Glen\, VA 22546
UID:e.9458.3075
SEQUENCE:3
DTSTAMP:20260421T122847Z
URL:http://fabava.memberzone.com/events/details/2020-fall-golf-invitational-3075
END:VEVENT

END:VCALENDAR
