BEGIN:VCALENDAR
VERSION:2.0
PRODID:-//ChamberMaster//Event Calendar 2.0//EN
METHOD:PUBLISH
X-PUBLISHED-TTL:P3D
REFRESH-INTERVAL:P3D
CALSCALE:GREGORIAN
BEGIN:VEVENT
DTSTART:20201027T160000Z
DTEND:20201027T190000Z
X-MICROSOFT-CDO-ALLDAYEVENT:FALSE
SUMMARY:2020 FABA Clay Shoot
DESCRIPTION:Join us for our First Annual Clay Shoot\n\n\n\nWhen: October 27th\n\n            Lunch at 12PM\, tournament begins at 1PM\n\n\n\nLocation:  Shady Grove Sporting Clays\n\n                11781 Lucky Hill Road\, Remington\, VA\n\n\n\nTeam of 4 - $500\n\nIndividual - $125\n\n*Includes lunch and Round of 60\n\n*Max 40 participants\n\n\n\nMust bring own Shotgun and Ammo (No shells bigger than 7 1/2 game load)\n\n*Shady Grove does not rent guns or sell ammo\n\n\n\nSponsorships Available\n\nEvent Sponsor - $1000\n\nLunch Sponsor -  $500\n\nAward Sponsor - SOLD OUT - Froehling and Robertson\n\nStation Sponsor (10 available) - $100\n\n \nRULES\n\n1. Protective shooting glasses and ear protection must be worn at all times by all persons on the Facilities.\n\n2. The largest shot size permitted is #7  .\n\n3. While waiting your turn to shoot\, be certain that your position is safely behind the shooter\, clear of his field of vision.\n\n4. The only time a gun will be loaded is when the shooter is actually in the station prepared to call for targets. Guns should be loaded only with the muzzle pointed in a safe direction. At all other times the gun will be unloaded and placed in a rack or unloaded and carried with the action open.\n\n5. At no time will a shooter load more than two shells in a gun.\n\n6. Before leaving the station\, shooters will ensure that the gun is unloaded and the action is open. Keep muzzle pointed down range when gun is loaded or when ejecting empties or unloading. In case of malfunction\, keep gun pointed down range until clear.\n\n7. Practice swings from behind any stations are not allowed.\n\n8. Use of alcoholic beverages before or during shooting is strictly prohibited.\n\n9. Keep the muzzle of your gun pointed away from other persons on the Facilities at all times.\n\n10. All spent hulls on the ground are to be picked up and placed in the station buckets.
X-ALT-DESC;FMTTYPE=text/html:<span style="font-size:18px\;">Join us for our First Annual Clay Shoot<br />\n<br />\nWhen: October 27th<br />\n&nbsp\;&nbsp\;&nbsp\;&nbsp\;&nbsp\;&nbsp\;&nbsp\;&nbsp\;&nbsp\; &nbsp\; Lunch at 12PM\, tournament begins at 1PM<br />\n<br />\nLocation:&nbsp\; Shady Grove Sporting Clays<br />\n&nbsp\;&nbsp\;&nbsp\;&nbsp\;&nbsp\;&nbsp\;&nbsp\;&nbsp\;&nbsp\;&nbsp\;&nbsp\;&nbsp\;&nbsp\; &nbsp\; 11781 Lucky Hill Road\, Remington\, VA<br />\n<br />\nTeam of 4 - $500<br />\nIndividual - $125<br />\n*Includes lunch and Round of 60<br />\n*Max 40 participants<br />\n<br />\nMust bring own Shotgun and Ammo (No shells bigger than 7 1/2 game load)<br />\n*Shady Grove does not rent guns or sell ammo<br />\n<br />\n<u><strong>Sponsorships Available</strong></u><br />\nEvent Sponsor - $1000<br />\nLunch Sponsor -&nbsp\; $500<br />\nAward Sponsor - SOLD OUT - Froehling and Robertson<br />\nStation Sponsor (10 available) - $100</span><br />\n&nbsp\;\n<div class="x_MsoNormal" style="margin: 0px 0px 0.0001pt\; padding: 0px\; border: 0px\; font-variant-numeric: inherit\; font-variant-east-asian: inherit\; font-stretch: inherit\; font-size: 16px\; line-height: normal\; font-family: Georgia\, &quot\;Times New Roman&quot\;\, Times\, serif\; vertical-align: baseline\; color: rgb(0\, 0\, 0)\;"><b><span style="margin: 0px\; padding: 0px\; border: 0px\; font-style: inherit\; font-variant: inherit\; font-weight: inherit\; font-stretch: inherit\; font-size: inherit\; line-height: inherit\; font-family: &quot\;Times New Roman&quot\;\, serif\; vertical-align: baseline\; color: inherit\;">RULES</span></b></div>\n\n<div class="x_MsoNormal" style="margin: 0px 0px 0.0001pt\; padding: 0px\; border: 0px\; font-variant-numeric: inherit\; font-variant-east-asian: inherit\; font-stretch: inherit\; font-size: 16px\; line-height: normal\; font-family: Georgia\, &quot\;Times New Roman&quot\;\, Times\, serif\; vertical-align: baseline\; color: rgb(0\, 0\, 0)\;"><span style="margin: 0px\; padding: 0px\; border: 0px\; font-style: inherit\; font-variant: inherit\; font-weight: inherit\; font-stretch: inherit\; font-size: inherit\; line-height: inherit\; font-family: &quot\;Times New Roman&quot\;\, serif\; vertical-align: baseline\; color: inherit\;">1. Protective shooting glasses and ear protection must be worn at all times by all persons on the Facilities.</span></div>\n\n<div class="x_MsoNormal" style="margin: 0px 0px 0.0001pt\; padding: 0px\; border: 0px\; font-variant-numeric: inherit\; font-variant-east-asian: inherit\; font-stretch: inherit\; font-size: 16px\; line-height: normal\; font-family: Georgia\, &quot\;Times New Roman&quot\;\, Times\, serif\; vertical-align: baseline\; color: rgb(0\, 0\, 0)\;"><span style="margin: 0px\; padding: 0px\; border: 0px\; font-style: inherit\; font-variant: inherit\; font-weight: inherit\; font-stretch: inherit\; font-size: inherit\; line-height: inherit\; font-family: &quot\;Times New Roman&quot\;\, serif\; vertical-align: baseline\; color: inherit\;">2. The largest shot size permitted is #7 &frac12\;.</span></div>\n\n<div class="x_MsoNormal" style="margin: 0px 0px 0.0001pt\; padding: 0px\; border: 0px\; font-variant-numeric: inherit\; font-variant-east-asian: inherit\; font-stretch: inherit\; font-size: 16px\; line-height: normal\; font-family: Georgia\, &quot\;Times New Roman&quot\;\, Times\, serif\; vertical-align: baseline\; color: rgb(0\, 0\, 0)\;"><span style="margin: 0px\; padding: 0px\; border: 0px\; font-style: inherit\; font-variant: inherit\; font-weight: inherit\; font-stretch: inherit\; font-size: inherit\; line-height: inherit\; font-family: &quot\;Times New Roman&quot\;\, serif\; vertical-align: baseline\; color: inherit\;">3. While waiting your turn to shoot\, be certain that your position is safely behind the shooter\, clear of his field of vision.</span></div>\n\n<div class="x_MsoNormal" style="margin: 0px 0px 0.0001pt\; padding: 0px\; border: 0px\; font-variant-numeric: inherit\; font-variant-east-asian: inherit\; font-stretch: inherit\; font-size: 16px\; line-height: normal\; font-family: Georgia\, &quot\;Times New Roman&quot\;\, Times\, serif\; vertical-align: baseline\; color: rgb(0\, 0\, 0)\;"><span style="margin: 0px\; padding: 0px\; border: 0px\; font-style: inherit\; font-variant: inherit\; font-weight: inherit\; font-stretch: inherit\; font-size: inherit\; line-height: inherit\; font-family: &quot\;Times New Roman&quot\;\, serif\; vertical-align: baseline\; color: inherit\;">4. The only time a gun will be loaded is when the shooter is actually in the station prepared to call for targets. Guns should be loaded only with the muzzle pointed in a safe direction. At all other times the gun will be unloaded and placed in a rack or unloaded and carried with the action open.</span></div>\n\n<div class="x_MsoNormal" style="margin: 0px 0px 0.0001pt\; padding: 0px\; border: 0px\; font-variant-numeric: inherit\; font-variant-east-asian: inherit\; font-stretch: inherit\; font-size: 16px\; line-height: normal\; font-family: Georgia\, &quot\;Times New Roman&quot\;\, Times\, serif\; vertical-align: baseline\; color: rgb(0\, 0\, 0)\;"><span style="margin: 0px\; padding: 0px\; border: 0px\; font-style: inherit\; font-variant: inherit\; font-weight: inherit\; font-stretch: inherit\; font-size: inherit\; line-height: inherit\; font-family: &quot\;Times New Roman&quot\;\, serif\; vertical-align: baseline\; color: inherit\;">5. At no time will a shooter load more than two shells in a gun.</span></div>\n\n<div class="x_MsoNormal" style="margin: 0px 0px 0.0001pt\; padding: 0px\; border: 0px\; font-variant-numeric: inherit\; font-variant-east-asian: inherit\; font-stretch: inherit\; font-size: 16px\; line-height: normal\; font-family: Georgia\, &quot\;Times New Roman&quot\;\, Times\, serif\; vertical-align: baseline\; color: rgb(0\, 0\, 0)\;"><span style="margin: 0px\; padding: 0px\; border: 0px\; font-style: inherit\; font-variant: inherit\; font-weight: inherit\; font-stretch: inherit\; font-size: inherit\; line-height: inherit\; font-family: &quot\;Times New Roman&quot\;\, serif\; vertical-align: baseline\; color: inherit\;">6. Before leaving the station\, shooters will ensure that the gun is unloaded and the action is open. Keep muzzle pointed down range when gun is loaded or when ejecting empties or unloading. In case of malfunction\, keep gun pointed down range until clear.</span></div>\n\n<div class="x_MsoNormal" style="margin: 0px 0px 0.0001pt\; padding: 0px\; border: 0px\; font-variant-numeric: inherit\; font-variant-east-asian: inherit\; font-stretch: inherit\; font-size: 16px\; line-height: normal\; font-family: Georgia\, &quot\;Times New Roman&quot\;\, Times\, serif\; vertical-align: baseline\; color: rgb(0\, 0\, 0)\;"><span style="margin: 0px\; padding: 0px\; border: 0px\; font-style: inherit\; font-variant: inherit\; font-weight: inherit\; font-stretch: inherit\; font-size: inherit\; line-height: inherit\; font-family: &quot\;Times New Roman&quot\;\, serif\; vertical-align: baseline\; color: inherit\;">7. Practice swings from behind any stations are not allowed.</span></div>\n\n<div class="x_MsoNormal" style="margin: 0px 0px 0.0001pt\; padding: 0px\; border: 0px\; font-variant-numeric: inherit\; font-variant-east-asian: inherit\; font-stretch: inherit\; font-size: 16px\; line-height: normal\; font-family: Georgia\, &quot\;Times New Roman&quot\;\, Times\, serif\; vertical-align: baseline\; color: rgb(0\, 0\, 0)\;"><span style="margin: 0px\; padding: 0px\; border: 0px\; font-style: inherit\; font-variant: inherit\; font-weight: inherit\; font-stretch: inherit\; font-size: inherit\; line-height: inherit\; font-family: &quot\;Times New Roman&quot\;\, serif\; vertical-align: baseline\; color: inherit\;">8. Use of alcoholic beverages before or during shooting is strictly prohibited.</span></div>\n\n<div class="x_MsoNormal" style="margin: 0px 0px 0.0001pt\; padding: 0px\; border: 0px\; font-variant-numeric: inherit\; font-variant-east-asian: inherit\; font-stretch: inherit\; font-size: 16px\; line-height: normal\; font-family: Georgia\, &quot\;Times New Roman&quot\;\, Times\, serif\; vertical-align: baseline\; color: rgb(0\, 0\, 0)\;"><span style="margin: 0px\; padding: 0px\; border: 0px\; font-style: inherit\; font-variant: inherit\; font-weight: inherit\; font-stretch: inherit\; font-size: inherit\; line-height: inherit\; font-family: &quot\;Times New Roman&quot\;\, serif\; vertical-align: baseline\; color: inherit\;">9. Keep the muzzle of your gun pointed away from other persons on the Facilities at all times.</span></div>\n\n<div class="x_MsoNormal" style="margin: 0px 0px 0.0001pt\; padding: 0px\; border: 0px\; font-variant-numeric: inherit\; font-variant-east-asian: inherit\; font-stretch: inherit\; font-size: 16px\; line-height: normal\; font-family: Georgia\, &quot\;Times New Roman&quot\;\, Times\, serif\; vertical-align: baseline\; color: rgb(0\, 0\, 0)\;"><span style="margin: 0px\; padding: 0px\; border: 0px\; font-style: inherit\; font-variant: inherit\; font-weight: inherit\; font-stretch: inherit\; font-size: inherit\; line-height: inherit\; font-family: &quot\;Times New Roman&quot\;\, serif\; vertical-align: baseline\; color: inherit\;">10. All spent hulls on the ground are to be picked up and placed in the station buckets.</span></div>\n<br />\n<br />\n&nbsp\;
LOCATION:
UID:e.9458.3157
SEQUENCE:3
DTSTAMP:20260421T110451Z
URL:http://fabava.memberzone.com/events/details/2020-faba-clay-shoot-3157
END:VEVENT

END:VCALENDAR
