BEGIN:VCALENDAR
VERSION:2.0
PRODID:-//ChamberMaster//Event Calendar 2.0//EN
METHOD:PUBLISH
X-PUBLISHED-TTL:P3D
REFRESH-INTERVAL:P3D
CALSCALE:GREGORIAN
BEGIN:VEVENT
DTSTART:20200915T190000Z
DTEND:20200915T230000Z
X-MICROSOFT-CDO-ALLDAYEVENT:FALSE
SUMMARY:2020 - Disc Golf
DESCRIPTION:FABA Members - join us for this free event! \n\n\n\nDisc golf is played much like traditional golf\, but instead of a ball and clubs\, players use a flying disc\, or Frisbee! FABA joins with professional players for a day of fun!  \n\n\n\nMust register to participate! \n\n(Limited spots available\, so register today!)\n\n\n\nDISC Hole Sponsorship - $50\n\n \n\n$50 Hole Sponsorships Include:\n\n	Visible signage on the hole\n	Recognition on Facebook\n	Recognition in the FABA Weekly Blueprint email blast\n\n \n\nAdditional Sponsorship Opportunities still available:\n\n\n	Dinner Sponsor - $250\n	Registration Tent Sponsor - $250
X-ALT-DESC;FMTTYPE=text/html:FABA Members - join us for this free event!&nbsp\;<br />\n<br />\nDisc golf is played much like traditional golf\, but instead of a ball and clubs\, players use a flying disc\, or Frisbee! FABA joins with professional players for a day of fun!&nbsp\;&nbsp\;<br />\n<br />\nMust register to participate!&nbsp\;<br />\n<em>(Limited spots available\, so register today!)</em><br />\n<br />\n<strong><span style="color:#FF0000\;">DISC Hole Sponsorship - $50</span></strong><br />\n&nbsp\;<br />\n<strong>$50 Hole Sponsorships Include:</strong>\n<ul>\n	<li>Visible signage on the hole</li>\n	<li>Recognition on Facebook</li>\n	<li>Recognition in the FABA Weekly Blueprint email blast</li>\n</ul>\n&nbsp\;<br />\n<strong>Additional Sponsorship Opportunities</strong> still available:\n\n<ul>\n	<li>Dinner Sponsor - $250</li>\n	<li>Registration Tent Sponsor - $250</li>\n</ul>\n&nbsp\;<br />\n&nbsp\;
LOCATION:Cannon Ridge Disc Golf Course 6309 Cannon Ridge\, Fredericksburg\, VA 22407 In Spotsylvania County off Rte 3
UID:e.9458.3073
SEQUENCE:3
DTSTAMP:20260421T142927Z
URL:http://fabava.memberzone.com/events/details/2020-disc-golf-3073
END:VEVENT

END:VCALENDAR
