BEGIN:VCALENDAR
VERSION:2.0
PRODID:-//ChamberMaster//Event Calendar 2.0//EN
METHOD:PUBLISH
X-PUBLISHED-TTL:P3D
REFRESH-INTERVAL:P3D
CALSCALE:GREGORIAN
BEGIN:VEVENT
DTSTART:20201112T220000Z
DTEND:20201113T000000Z
X-MICROSOFT-CDO-ALLDAYEVENT:FALSE
SUMMARY:2020 Annual Meeting and Hard Hat Networking
DESCRIPTION:Join us for our combined Annual Meeting and Hard Hat Member Networking at Carter Lumber.\n\n\n\nThe 2021 Board of Directors will be voted on at this annual meeting and 2020 Bylaw changes will be approved.\n\n\nHard Hat Networking is about building strong relationships and helping one another grow our businesses.\n\n\n\nIf you are a member of FABA or interested in becoming a member\, Hard Hat is a great way to get to know the people in your industry circle and build lasting\, loyal business relationships.\n\nIf you would like more information about FABA\, please feel free to reach out to the FABA staff at (540) 898-2730.
X-ALT-DESC;FMTTYPE=text/html:<span style="font-size:16px\;">Join us for our combined Annual Meeting and Hard Hat Member Networking at Carter Lumber.<br />\n<br />\nThe 2021 Board of Directors will be voted on at this annual meeting and 2020 Bylaw changes will be approved.</span>\n<p style="margin: 0px 0px 6px\; font-family: Helvetica\, Arial\, sans-serif\; color: rgb(29\, 33\, 41)\; font-size: 14px\;"><br />\n<span style="font-size:16px\;">Hard Hat Networking is about building strong relationships and helping one another grow our businesses.</span></p>\n\n<p style="margin: 6px 0px\; font-family: Helvetica\, Arial\, sans-serif\; color: rgb(29\, 33\, 41)\; font-size: 14px\;"><br />\n<span style="font-size:16px\;">If you are a member of FABA or interested in becoming a member\, Hard Hat is a great way to get to know the people in your industry circle and build lasting\, loyal business relationships.</span></p>\n\n<p style="margin: 6px 0px 0px\; display: inline\; font-family: Helvetica\, Arial\, sans-serif\; color: rgb(29\, 33\, 41)\; font-size: 14px\;"><span style="font-size:16px\;">If you would like more information about FABA\, please feel free to reach out to the FABA staff at (540) 898-2730.</span></p>\n
LOCATION:11631 Shannon Drive Fredericksburg\, VA 22408
UID:e.9458.2940
SEQUENCE:3
DTSTAMP:20260421T093631Z
URL:http://fabava.memberzone.com/events/details/2020-annual-meeting-and-hard-hat-networking-2940
END:VEVENT

END:VCALENDAR
