BEGIN:VCALENDAR
VERSION:2.0
PRODID:-//ChamberMaster//Event Calendar 2.0//EN
METHOD:PUBLISH
X-PUBLISHED-TTL:P3D
REFRESH-INTERVAL:P3D
CALSCALE:GREGORIAN
BEGIN:VEVENT
DTSTART:20190329T120000Z
DTEND:20190329T200000Z
X-MICROSOFT-CDO-ALLDAYEVENT:FALSE
SUMMARY:2019 - Code Training (for the 2015 Codes)
DESCRIPTION:2015 VIRGINIA CODE CHANGE UPDATES\n\nMarch 29\, 2019\n\n8:00 am   4:00 pm\n\n\n\nWHERE:\n\nSPOTSYLVANIA COUNTY SCHOOL BOARD\n\n8020 Stone River Drive\n\nFredericksburg\, VA 22407\n\n\n\nWHO:\n\nArchitects\, Engineers\, Designers\, Developers\, Contractors\, Builders\, Tradesmen\n\n\n\nPresented by the City of Fredericksburg\, Stafford County\, and Spotsylvania County\n\nSponsored by the Fredericksburg Area Builders Association\n\n\n\nWHAT:\n\n2015 VIRGINIA CODE CHANGE UPDATES\n\n	IRC Residential\n	IPC Plumbing\n	IMC Mechanical\n	IBC Commercial\n	NEC 2014 Edition\n	Energy Star\n\n\n\nPLEASE REGISTER BY March 25\, 2019 TO RESERVE YOUR SPACE\n\n\n\n***SEATING IS LIMITED*****\n\n\n\nRegister by contacting the us at Fredericksburg Area Builders Association\n\nCall 540-898-2730 or CLICK the Register button.\n\n\n\nReserve your space before March 25\, 2019\n\n\n\nSCHEDULE:\n\nCheck-In & Networking opens at 7:30 a.m.\n\nMorning Classes begin at 8:00 am\n\n\n\nUSBC 8:00-8:30\n\nIRC 8:35-10:00\n\nPlumbing- 10:15 to 10:45 \n\nMechanical 10:50 to 11:20 \n\nFuel Gas 11:25 to 12:00\n\n\n\nLunch 12:00 to 1:00 *\n\n\n\nElectrical 1:00 to 1:45\n\nEnergy 1:50 to 2:30\n\nIBC 2:30 to 3:35 \n\n\n\n*Lunch is on your own*
X-ALT-DESC;FMTTYPE=text/html:<span style="font-size:14px\;"><strong>2015 VIRGINIA CODE CHANGE UPDATES<br />\nMarch 29\, 2019<br />\n8:00 am &ndash\; 4:00 pm</strong></span><br />\n<br />\n<strong>WHERE:</strong><br />\nSPOTSYLVANIA COUNTY SCHOOL BOARD<br />\n8020 Stone River Drive<br />\nFredericksburg\, VA 22407<br />\n<br />\n<strong>WHO:</strong><br />\nArchitects\, Engineers\, Designers\, Developers\, Contractors\, Builders\, Tradesmen<br />\n<br />\n<em>Presented by the City of Fredericksburg\, Stafford County\, and Spotsylvania County<br />\nSponsored by the Fredericksburg Area Builders Association</em><br />\n<br />\n<strong>WHAT:</strong><br />\n<strong style="font-size: 14px\;">2015 VIRGINIA CODE CHANGE UPDATES</strong>\n<ul>\n	<li>IRC Residential</li>\n	<li>IPC Plumbing</li>\n	<li>IMC Mechanical</li>\n	<li>IBC Commercial</li>\n	<li>NEC 2014 Edition</li>\n	<li>Energy Star</li>\n</ul>\n<br />\n<strong>PLEASE REGISTER BY March 25\, 2019 TO RESERVE YOUR SPACE</strong><br />\n<br />\n<strong>***SEATING IS LIMITED*****</strong><br />\n<br />\nRegister by contacting the us at Fredericksburg Area Builders Association<br />\nCall 540-898-2730 or CLICK the Register button.<br />\n<br />\nReserve your space before March 25\, 2019<br />\n<br />\n<strong>SCHEDULE:</strong><br />\nCheck-In &amp\; Networking opens at 7:30 a.m.<br />\nMorning Classes begin at 8:00 am<br />\n<br />\nUSBC 8:00-8:30<br />\nIRC 8:35-10:00<br />\nPlumbing- 10:15 to 10:45&nbsp\;<br />\nMechanical 10:50 to 11:20&nbsp\;<br />\nFuel Gas 11:25 to 12:00<br />\n<br />\n<em>Lunch 12:00 to 1:00 *</em><br />\n<br />\nElectrical 1:00 to 1:45<br />\nEnergy 1:50 to 2:30<br />\nIBC 2:30 to 3:35&nbsp\;<br />\n<br />\n<em>*Lunch is on your own*</em>
LOCATION:Spotsylvania County School Board 8020 River Stone Dr Fredericksburg\, VA 22407
UID:e.9458.2685
SEQUENCE:3
DTSTAMP:20260423T030458Z
URL:http://fabava.memberzone.com/events/details/2019-code-training-for-the-2015-codes-2685
END:VEVENT

END:VCALENDAR
