BEGIN:VCALENDAR
VERSION:2.0
PRODID:-//ChamberMaster//Event Calendar 2.0//EN
METHOD:PUBLISH
X-PUBLISHED-TTL:P3D
REFRESH-INTERVAL:P3D
CALSCALE:GREGORIAN
BEGIN:VEVENT
DTSTART:20190731T153000Z
DTEND:20190731T170000Z
X-MICROSOFT-CDO-ALLDAYEVENT:FALSE
SUMMARY:2019 - Basic Spanish for the Work Site
DESCRIPTION:Learn basic pronunciation in Spanish\, so that with access to the right terms\, you will be able to express yourselves to those around you! It will also cover the basics of greetings\, directions\, common questions\, payment and safety on the job so that you will be comfortable discussing these things with a new hire or current employee. Additionally\, lawn care\, painting\, and general construction will be discussed. \n\nPresented by Whytney Soriano
X-ALT-DESC;FMTTYPE=text/html:Learn basic pronunciation in Spanish\, so that with access to the right terms\, you will be able to express yourselves to those around you! It will also cover the basics of greetings\, directions\, common questions\, payment and safety on the job so that you will be comfortable discussing these things with a new hire or current employee. Additionally\, lawn care\, painting\, and general construction will be discussed.&nbsp\;<br />\nPresented by Whytney Soriano
LOCATION:FABA Boardroom 3006 Lafayette Blvd. Fredericksburg\, VA 22408 (540) 898-2730
UID:e.9458.2806
SEQUENCE:3
DTSTAMP:20260422T161842Z
URL:http://fabava.memberzone.com/events/details/2019-basic-spanish-for-the-work-site-2806
END:VEVENT

END:VCALENDAR
