BEGIN:VCALENDAR
VERSION:2.0
PRODID:-//ChamberMaster//Event Calendar 2.0//EN
METHOD:PUBLISH
X-PUBLISHED-TTL:P3D
REFRESH-INTERVAL:P3D
CALSCALE:GREGORIAN
BEGIN:VEVENT
DTSTART:20191107T123000Z
DTEND:20191107T150000Z
X-MICROSOFT-CDO-ALLDAYEVENT:FALSE
SUMMARY:2019 - Annual Meeting
DESCRIPTION:Join us for breakfast and industry presentation on building trends and construction outlook at our Annual Meeting.\n\nHear about "Home Trends\, Buyer Preferences\, & Construction Outlook" for 2020 from Special guest speaker\, Rose Quint\, AVP for Survey Research at NAHB\n\n\n\nThe 2020 Board of Directors will be voted on at this annual meeting and 2019 Bylaw changes will be approved.\n\n\n\nWe will also present the MVP Spike awards from both the April & October Membership Drives\, as well as NAHB Spike Pins.
X-ALT-DESC;FMTTYPE=text/html:Join us for breakfast and industry presentation on building trends and construction outlook at our Annual Meeting.<br />\nHear about &quot\;Home Trends\, Buyer Preferences\, &amp\; Construction Outlook&quot\; for 2020 from&nbsp\;Special guest speaker\, Rose Quint\, AVP for Survey Research at NAHB<br />\n<br />\nThe 2020 Board of Directors will be voted on at this annual meeting and 2019 Bylaw changes will be approved.<br />\n<br />\nWe will also present the MVP Spike awards from both the April &amp\; October Membership Drives\, as well as NAHB Spike Pins.&nbsp\;<br />\n<br />\n<br />\n<br />\n&nbsp\;
LOCATION:Riverside Center 95 Riverside Parkway Fredericksburg\, VA 22406
UID:e.9458.2846
SEQUENCE:3
DTSTAMP:20260422T083342Z
URL:http://fabava.memberzone.com/events/details/2019-annual-meeting-2846
END:VEVENT

END:VCALENDAR
